{"text_format":"1","workbook":"xlsx","n_sheets":9,"sheets":["記入上の注意（必ずお読みください）","Sheet2","申込一覧","リレー","ﾘﾚｰDB","競技者","参加料","名前","Sheet1"],"not_rendered":{"charts":0,"images":2,"macros":1,"external_links":2,"defined_names":27,"comments":1,"pivot_tables":0},"unopened":[],"bounds":{"document_bytes":16777216,"sheet_cells":100000,"rows_first":2000,"rows_last":500,"rows_between":2000,"halvings":0,"cell_chars":16384,"cell_head_chars":4096},"cells_cut":0,"cells_raw":0,"read":"whole","date_system":"1900"}

{"sheet":"記入上の注意（必ずお読みください）","index":0,"n_rows":24,"n_cols":2,"rows_kept":24,"cut":false,"hidden":false,"merged":[[0,0,0,1]]}
["記入上の注意（必ずお読みください）"]
[]
["【1】","本大会専用の申込みファイルであることを確認してください。"]
[null,"　　　この申込みファイルは「第1回とくしま市中長距離記録会」です。"]
["【2】","申込ファイル上部の所属～種別を打ち込まないと、下部の個人種目等は明示されません。"]
["【3】","色のついたセルにのみ入力してください。"]
["【4】","例にならって記入してください。"]
[null,"各項目の先頭セルにあるコメントをよく読んで記入してくだい。"]
[null,"ナンバーの「－」ハイフンは省いて入力してください。"]
[]
[]
[]
[null,"※他のデータからコピーする場合は、「形式を選択して貼付→値」でお願いします。"]
[null,"※最高記録は数字のみ，トラックは1/100まで記入して下さい。"]
[]
["【5】","リレーは「リレー」シートに入力して申込みしてください。(氏名ではなくナンバーで入力)"]
["【6】","「 都道府県 」「 種別 」「 性別 」「 種目 」はプルダウンから選択してください。"]
[null,"他の試合のデータとは選択が異なります。貼付せずに選択をお願いします。"]
["【7】","ファイルを保存して、藤川　靖 (下記アドレス） 宛へ送信してください。"]
[null,"メールアドレス　：　tokusimashi.tyuutyou1212@gmail.com"]
[null,"第１回　10月17日（金）必着"]
[]
[]
["【8】","書類による申込みは大会当日受付へ提出"]

{"sheet":"Sheet2","index":1,"n_rows":3,"n_cols":11,"rows_kept":3,"cut":false,"hidden":true,"merged":[]}
["NO.","ﾅﾝﾊﾞｰ","氏　　名","ﾌﾘｶﾞﾅ","年","性","都道府県","種目１","最高記録","種目2","最高記録"]
[1,1234,"徳島　一男","ﾄｸｼﾏ　ｶｽﾞｵ",3,"男","徳島","一男_1500m",41234,"一男_5000m",151234]
[2,1234,"徳島　華子","ﾄｸｼﾏ　ﾊﾅｺ",2,"女","徳島","一女_1500m",51234,"一女_3000m",101234]

{"sheet":"申込一覧","index":2,"n_rows":99,"n_cols":18,"rows_kept":99,"cut":false,"hidden":false,"merged":[[7,2,7,7],[13,6,13,7],[13,3,13,5],[13,8,13,9],[12,3,12,5],[10,5,10,8],[15,6,15,7],[15,3,15,5],[14,3,14,5],[16,8,16,9],[14,6,14,7],[16,6,16,7],[16,3,16,5],[15,8,15,9],[14,8,14,9],[0,9,0,12],[12,6,12,7],[2,10,2,12],[4,0,4,11],[12,8,12,9],[8,0,8,1],[10,3,10,4],[10,0,10,1],[7,0,7,1],[5,0,5,11],[7,8,7,9],[8,5,8,7],[8,8,8,12],[10,10,10,12],[8,2,8,4],[0,3,0,8]]}
[null,null,1,"とくしま市中長距離記録会"]
[]
[null,null,null,null,null,null,null,null,null,null,{"$f":"lastsavetime()","v":"2025-01-25T13:58:10"}]
[]
["　徳島陸上競技協会長　殿"]
["　大会要項により，参加料を添えて標記大会に参加申し込みをいたします。"]
[]
["所 属 名",null,null,null,null,null,null,null,"所   属   長"]
["申込責任者",null,null,null,null,"緊急連絡先\n（申込者の携帯電話）"]
[]
["都道\n府県",null,null,"所属名略称",null,null,null,null,null,"種   別"]
[]
[null,null,null,"男子",null,null,"女子",null,"計",null,"1種目",{"$f":"IF(K11=\"\",\"\",INDEX(名前!$G$27:$G$35,MATCH(O13,名前!H27:H35,0)))","v":""},null,{"$f":"IF(K11=\"一般\",11,IF(K11=\"高校\",33,IF(K11=\"中学校\",55,IF(K11=\"小学校\",77,\"\"))))","v":""},{"$f":"IF(C11=\"\",\"\",IF(C11=\"徳　島\",\"KN\",\"KG\")&LEFT(K11,1))","v":""}]
[null,null,"参加人数",{"$f":"COUNTIF($F$20:$F$99,1)","v":0},null,null,{"$f":"COUNTIF($F$20:$F$99,2)","v":0},null,{"$f":"SUM(D14:H14)","v":0}]
[null,null,"個人種目数",{"$f":"COUNTIF($I$20:$I$99:$K$20:$K$99:$M$20:$M$99,\"*\"&\"男\"&\"*\")","v":0},null,null,{"$f":"COUNTIF($I$20:$I$99:$K$20:$K$99:$M$20:$M$99,\"*\"&\"女\"&\"*\")","v":0},null,{"$f":"SUM(D15:H15)","v":0}]
[]
[null,null,"参加料合計",{"$f":"IF(K11=\"\",\"\",($D$15*$L$13)+($D$16*$L$14))","v":""},null,null,{"$f":"IF(K11=\"\",\"\",($G$15*$L$13)+($G$16*$L$14))","v":""},null,{"$f":"SUM(D17:H17)","v":0}]
[]
["№","ﾅﾝﾊﾞｰ","氏　名","ﾌﾘｶﾞﾅ","年","性","所属","都道府県","種目1","最高記録","種目2","最高記録","種目3","最高記録"]
[1,null,null,null,null,null,{"$f":"IF(B20=\"\",\"\",$F$11)","v":""},{"$f":"IF(B20=\"\",\"\",$C$11)","v":""},null,null,null,null,null,null,{"$f":"IF(F20=\"\",\"\",$K$11&F20)","v":""},{"$f":"IF(I20=\"\",\"\",INDEX(名前!$W$4:$W$59,MATCH(I20,名前!$V$4:$V$59,0)))","v":""},{"$f":"IF(K20=\"\",\"\",INDEX(名前!$W$4:$W$59,MATCH(K20,名前!$V$4:$V$59,0)))","v":""},{"$f":"IF(M20=\"\",\"\",INDEX(名前!$W$4:$W$59,MATCH(M20,名前!$V$4:$V$59,0)))","v":""}]
[2,null,null,null,null,null,{"$f":"IF(B21=\"\",\"\",$F$11)","v":""},{"$f":"IF(B21=\"\",\"\",$C$11)","v":""},null,null,null,null,null,null,{"$f":"IF(F21=\"\",\"\",$K$11&F21)","v":""},{"$f":"IF(I21=\"\",\"\",INDEX(名前!$W$4:$W$59,MATCH(I21,名前!$V$4:$V$59,0)))","v":""},{"$f":"IF(K21=\"\",\"\",INDEX(名前!$W$4:$W$59,MATCH(K21,名前!$V$4:$V$59,0)))","v":""},{"$f":"IF(M21=\"\",\"\",INDEX(名前!$W$4:$W$59,MATCH(M21,名前!$V$4:$V$59,0)))","v":""}]
[3,null,null,null,null,null,"","",null,null,null,null,null,null,"",{"$f":"IF(I22=\"\",\"\",INDEX(名前!$W$4:$W$59,MATCH(I22,名前!$V$4:$V$59,0)))","v":""},{"$f":"IF(K22=\"\",\"\",INDEX(名前!$W$4:$W$59,MATCH(K22,名前!$V$4:$V$59,0)))","v":""},{"$f":"IF(M22=\"\",\"\",INDEX(名前!$W$4:$W$59,MATCH(M22,名前!$V$4:$V$59,0)))","v":""}]
[4,null,null,null,null,null,"","",null,null,null,null,null,null,"",{"$f":"IF(I23=\"\",\"\",INDEX(名前!$W$4:$W$59,MATCH(I23,名前!$V$4:$V$59,0)))","v":""},{"$f":"IF(K23=\"\",\"\",INDEX(名前!$W$4:$W$59,MATCH(K23,名前!$V$4:$V$59,0)))","v":""},{"$f":"IF(M23=\"\",\"\",INDEX(名前!$W$4:$W$59,MATCH(M23,名前!$V$4:$V$59,0)))","v":""}]
[5,null,null,null,null,null,"","",null,null,null,null,null,null,"",{"$f":"IF(I24=\"\",\"\",INDEX(名前!$W$4:$W$59,MATCH(I24,名前!$V$4:$V$59,0)))","v":""},{"$f":"IF(K24=\"\",\"\",INDEX(名前!$W$4:$W$59,MATCH(K24,名前!$V$4:$V$59,0)))","v":""},{"$f":"IF(M24=\"\",\"\",INDEX(名前!$W$4:$W$59,MATCH(M24,名前!$V$4:$V$59,0)))","v":""}]
[6,null,null,null,null,null,"","",null,null,null,null,null,null,"",{"$f":"IF(I25=\"\",\"\",INDEX(名前!$W$4:$W$59,MATCH(I25,名前!$V$4:$V$59,0)))","v":""},{"$f":"IF(K25=\"\",\"\",INDEX(名前!$W$4:$W$59,MATCH(K25,名前!$V$4:$V$59,0)))","v":""},{"$f":"IF(M25=\"\",\"\",INDEX(名前!$W$4:$W$59,MATCH(M25,名前!$V$4:$V$59,0)))","v":""}]
[7,null,null,null,null,null,"","",null,null,null,null,null,null,"",{"$f":"IF(I26=\"\",\"\",INDEX(名前!$W$4:$W$59,MATCH(I26,名前!$V$4:$V$59,0)))","v":""},{"$f":"IF(K26=\"\",\"\",INDEX(名前!$W$4:$W$59,MATCH(K26,名前!$V$4:$V$59,0)))","v":""},{"$f":"IF(M26=\"\",\"\",INDEX(名前!$W$4:$W$59,MATCH(M26,名前!$V$4:$V$59,0)))","v":""}]
[8,null,null,null,null,null,"","",null,null,null,null,null,null,"",{"$f":"IF(I27=\"\",\"\",INDEX(名前!$W$4:$W$59,MATCH(I27,名前!$V$4:$V$59,0)))","v":""},{"$f":"IF(K27=\"\",\"\",INDEX(名前!$W$4:$W$59,MATCH(K27,名前!$V$4:$V$59,0)))","v":""},{"$f":"IF(M27=\"\",\"\",INDEX(名前!$W$4:$W$59,MATCH(M27,名前!$V$4:$V$59,0)))","v":""}]
[9,null,null,null,null,null,"","",null,null,null,null,null,null,"",{"$f":"IF(I28=\"\",\"\",INDEX(名前!$W$4:$W$59,MATCH(I28,名前!$V$4:$V$59,0)))","v":""},{"$f":"IF(K28=\"\",\"\",INDEX(名前!$W$4:$W$59,MATCH(K28,名前!$V$4:$V$59,0)))","v":""},{"$f":"IF(M28=\"\",\"\",INDEX(名前!$W$4:$W$59,MATCH(M28,名前!$V$4:$V$59,0)))","v":""}]
[10,null,null,null,null,null,"","",null,null,null,null,null,null,"",{"$f":"IF(I29=\"\",\"\",INDEX(名前!$W$4:$W$59,MATCH(I29,名前!$V$4:$V$59,0)))","v":""},{"$f":"IF(K29=\"\",\"\",INDEX(名前!$W$4:$W$59,MATCH(K29,名前!$V$4:$V$59,0)))","v":""},{"$f":"IF(M29=\"\",\"\",INDEX(名前!$W$4:$W$59,MATCH(M29,名前!$V$4:$V$59,0)))","v":""}]
[11,null,null,null,null,null,"","",null,null,null,null,null,null,"",{"$f":"IF(I30=\"\",\"\",INDEX(名前!$W$4:$W$59,MATCH(I30,名前!$V$4:$V$59,0)))","v":""},{"$f":"IF(K30=\"\",\"\",INDEX(名前!$W$4:$W$59,MATCH(K30,名前!$V$4:$V$59,0)))","v":""},{"$f":"IF(M30=\"\",\"\",INDEX(名前!$W$4:$W$59,MATCH(M30,名前!$V$4:$V$59,0)))","v":""}]
[12,null,null,null,null,null,"","",null,null,null,null,null,null,"",{"$f":"IF(I31=\"\",\"\",INDEX(名前!$W$4:$W$59,MATCH(I31,名前!$V$4:$V$59,0)))","v":""},{"$f":"IF(K31=\"\",\"\",INDEX(名前!$W$4:$W$59,MATCH(K31,名前!$V$4:$V$59,0)))","v":""},{"$f":"IF(M31=\"\",\"\",INDEX(名前!$W$4:$W$59,MATCH(M31,名前!$V$4:$V$59,0)))","v":""}]
[13,null,null,null,null,null,"","",null,null,null,null,null,null,"",{"$f":"IF(I32=\"\",\"\",INDEX(名前!$W$4:$W$59,MATCH(I32,名前!$V$4:$V$59,0)))","v":""},{"$f":"IF(K32=\"\",\"\",INDEX(名前!$W$4:$W$59,MATCH(K32,名前!$V$4:$V$59,0)))","v":""},{"$f":"IF(M32=\"\",\"\",INDEX(名前!$W$4:$W$59,MATCH(M32,名前!$V$4:$V$59,0)))","v":""}]
[14,null,null,null,null,null,"","",null,null,null,null,null,null,"",{"$f":"IF(I33=\"\",\"\",INDEX(名前!$W$4:$W$59,MATCH(I33,名前!$V$4:$V$59,0)))","v":""},{"$f":"IF(K33=\"\",\"\",INDEX(名前!$W$4:$W$59,MATCH(K33,名前!$V$4:$V$59,0)))","v":""},{"$f":"IF(M33=\"\",\"\",INDEX(名前!$W$4:$W$59,MATCH(M33,名前!$V$4:$V$59,0)))","v":""}]
[15,null,null,null,null,null,"","",null,null,null,null,null,null,"",{"$f":"IF(I34=\"\",\"\",INDEX(名前!$W$4:$W$59,MATCH(I34,名前!$V$4:$V$59,0)))","v":""},{"$f":"IF(K34=\"\",\"\",INDEX(名前!$W$4:$W$59,MATCH(K34,名前!$V$4:$V$59,0)))","v":""},{"$f":"IF(M34=\"\",\"\",INDEX(名前!$W$4:$W$59,MATCH(M34,名前!$V$4:$V$59,0)))","v":""}]
[16,null,null,null,null,null,"","",null,null,null,null,null,null,"",{"$f":"IF(I35=\"\",\"\",INDEX(名前!$W$4:$W$59,MATCH(I35,名前!$V$4:$V$59,0)))","v":""},{"$f":"IF(K35=\"\",\"\",INDEX(名前!$W$4:$W$59,MATCH(K35,名前!$V$4:$V$59,0)))","v":""},{"$f":"IF(M35=\"\",\"\",INDEX(名前!$W$4:$W$59,MATCH(M35,名前!$V$4:$V$59,0)))","v":""}]
[17,null,null,null,null,null,"","",null,null,null,null,null,null,"",{"$f":"IF(I36=\"\",\"\",INDEX(名前!$W$4:$W$59,MATCH(I36,名前!$V$4:$V$59,0)))","v":""},{"$f":"IF(K36=\"\",\"\",INDEX(名前!$W$4:$W$59,MATCH(K36,名前!$V$4:$V$59,0)))","v":""},{"$f":"IF(M36=\"\",\"\",INDEX(名前!$W$4:$W$59,MATCH(M36,名前!$V$4:$V$59,0)))","v":""}]
[18,null,null,null,null,null,"","",null,null,null,null,null,null,"",{"$f":"IF(I37=\"\",\"\",INDEX(名前!$W$4:$W$59,MATCH(I37,名前!$V$4:$V$59,0)))","v":""},{"$f":"IF(K37=\"\",\"\",INDEX(名前!$W$4:$W$59,MATCH(K37,名前!$V$4:$V$59,0)))","v":""},{"$f":"IF(M37=\"\",\"\",INDEX(名前!$W$4:$W$59,MATCH(M37,名前!$V$4:$V$59,0)))","v":""}]
[19,null,null,null,null,null,"","",null,null,null,null,null,null,"",{"$f":"IF(I38=\"\",\"\",INDEX(名前!$W$4:$W$59,MATCH(I38,名前!$V$4:$V$59,0)))","v":""},{"$f":"IF(K38=\"\",\"\",INDEX(名前!$W$4:$W$59,MATCH(K38,名前!$V$4:$V$59,0)))","v":""},{"$f":"IF(M38=\"\",\"\",INDEX(名前!$W$4:$W$59,MATCH(M38,名前!$V$4:$V$59,0)))","v":""}]
[20,null,null,null,null,null,"","",null,null,null,null,null,null,"",{"$f":"IF(I39=\"\",\"\",INDEX(名前!$W$4:$W$59,MATCH(I39,名前!$V$4:$V$59,0)))","v":""},{"$f":"IF(K39=\"\",\"\",INDEX(名前!$W$4:$W$59,MATCH(K39,名前!$V$4:$V$59,0)))","v":""},{"$f":"IF(M39=\"\",\"\",INDEX(名前!$W$4:$W$59,MATCH(M39,名前!$V$4:$V$59,0)))","v":""}]
[21,null,null,null,null,null,"","",null,null,null,null,null,null,"",{"$f":"IF(I40=\"\",\"\",INDEX(名前!$W$4:$W$59,MATCH(I40,名前!$V$4:$V$59,0)))","v":""},{"$f":"IF(K40=\"\",\"\",INDEX(名前!$W$4:$W$59,MATCH(K40,名前!$V$4:$V$59,0)))","v":""},{"$f":"IF(M40=\"\",\"\",INDEX(名前!$W$4:$W$59,MATCH(M40,名前!$V$4:$V$59,0)))","v":""}]
[22,null,null,null,null,null,"","",null,null,null,null,null,null,"",{"$f":"IF(I41=\"\",\"\",INDEX(名前!$W$4:$W$59,MATCH(I41,名前!$V$4:$V$59,0)))","v":""},{"$f":"IF(K41=\"\",\"\",INDEX(名前!$W$4:$W$59,MATCH(K41,名前!$V$4:$V$59,0)))","v":""},{"$f":"IF(M41=\"\",\"\",INDEX(名前!$W$4:$W$59,MATCH(M41,名前!$V$4:$V$59,0)))","v":""}]
[23,null,null,null,null,null,"","",null,null,null,null,null,null,"",{"$f":"IF(I42=\"\",\"\",INDEX(名前!$W$4:$W$59,MATCH(I42,名前!$V$4:$V$59,0)))","v":""},{"$f":"IF(K42=\"\",\"\",INDEX(名前!$W$4:$W$59,MATCH(K42,名前!$V$4:$V$59,0)))","v":""},{"$f":"IF(M42=\"\",\"\",INDEX(名前!$W$4:$W$59,MATCH(M42,名前!$V$4:$V$59,0)))","v":""}]
[24,null,null,null,null,null,"","",null,null,null,null,null,null,"",{"$f":"IF(I43=\"\",\"\",INDEX(名前!$W$4:$W$59,MATCH(I43,名前!$V$4:$V$59,0)))","v":""},{"$f":"IF(K43=\"\",\"\",INDEX(名前!$W$4:$W$59,MATCH(K43,名前!$V$4:$V$59,0)))","v":""},{"$f":"IF(M43=\"\",\"\",INDEX(名前!$W$4:$W$59,MATCH(M43,名前!$V$4:$V$59,0)))","v":""}]
[25,null,null,null,null,null,"","",null,null,null,null,null,null,"",{"$f":"IF(I44=\"\",\"\",INDEX(名前!$W$4:$W$59,MATCH(I44,名前!$V$4:$V$59,0)))","v":""},{"$f":"IF(K44=\"\",\"\",INDEX(名前!$W$4:$W$59,MATCH(K44,名前!$V$4:$V$59,0)))","v":""},{"$f":"IF(M44=\"\",\"\",INDEX(名前!$W$4:$W$59,MATCH(M44,名前!$V$4:$V$59,0)))","v":""}]
[26,null,null,null,null,null,"","",null,null,null,null,null,null,"",{"$f":"IF(I45=\"\",\"\",INDEX(名前!$W$4:$W$59,MATCH(I45,名前!$V$4:$V$59,0)))","v":""},{"$f":"IF(K45=\"\",\"\",INDEX(名前!$W$4:$W$59,MATCH(K45,名前!$V$4:$V$59,0)))","v":""},{"$f":"IF(M45=\"\",\"\",INDEX(名前!$W$4:$W$59,MATCH(M45,名前!$V$4:$V$59,0)))","v":""}]
[27,null,null,null,null,null,"","",null,null,null,null,null,null,"",{"$f":"IF(I46=\"\",\"\",INDEX(名前!$W$4:$W$59,MATCH(I46,名前!$V$4:$V$59,0)))","v":""},{"$f":"IF(K46=\"\",\"\",INDEX(名前!$W$4:$W$59,MATCH(K46,名前!$V$4:$V$59,0)))","v":""},{"$f":"IF(M46=\"\",\"\",INDEX(名前!$W$4:$W$59,MATCH(M46,名前!$V$4:$V$59,0)))","v":""}]
[28,null,null,null,null,null,"","",null,null,null,null,null,null,"",{"$f":"IF(I47=\"\",\"\",INDEX(名前!$W$4:$W$59,MATCH(I47,名前!$V$4:$V$59,0)))","v":""},{"$f":"IF(K47=\"\",\"\",INDEX(名前!$W$4:$W$59,MATCH(K47,名前!$V$4:$V$59,0)))","v":""},{"$f":"IF(M47=\"\",\"\",INDEX(名前!$W$4:$W$59,MATCH(M47,名前!$V$4:$V$59,0)))","v":""}]
[29,null,null,null,null,null,"","",null,null,null,null,null,null,"",{"$f":"IF(I48=\"\",\"\",INDEX(名前!$W$4:$W$59,MATCH(I48,名前!$V$4:$V$59,0)))","v":""},{"$f":"IF(K48=\"\",\"\",INDEX(名前!$W$4:$W$59,MATCH(K48,名前!$V$4:$V$59,0)))","v":""},{"$f":"IF(M48=\"\",\"\",INDEX(名前!$W$4:$W$59,MATCH(M48,名前!$V$4:$V$59,0)))","v":""}]
[30,null,null,null,null,null,"","",null,null,null,null,null,null,"",{"$f":"IF(I49=\"\",\"\",INDEX(名前!$W$4:$W$59,MATCH(I49,名前!$V$4:$V$59,0)))","v":""},{"$f":"IF(K49=\"\",\"\",INDEX(名前!$W$4:$W$59,MATCH(K49,名前!$V$4:$V$59,0)))","v":""},{"$f":"IF(M49=\"\",\"\",INDEX(名前!$W$4:$W$59,MATCH(M49,名前!$V$4:$V$59,0)))","v":""}]
[31,null,null,null,null,null,"","",null,null,null,null,null,null,"",{"$f":"IF(I50=\"\",\"\",INDEX(名前!$W$4:$W$59,MATCH(I50,名前!$V$4:$V$59,0)))","v":""},{"$f":"IF(K50=\"\",\"\",INDEX(名前!$W$4:$W$59,MATCH(K50,名前!$V$4:$V$59,0)))","v":""},{"$f":"IF(M50=\"\",\"\",INDEX(名前!$W$4:$W$59,MATCH(M50,名前!$V$4:$V$59,0)))","v":""}]
[32,null,null,null,null,null,"","",null,null,null,null,null,null,"",{"$f":"IF(I51=\"\",\"\",INDEX(名前!$W$4:$W$59,MATCH(I51,名前!$V$4:$V$59,0)))","v":""},{"$f":"IF(K51=\"\",\"\",INDEX(名前!$W$4:$W$59,MATCH(K51,名前!$V$4:$V$59,0)))","v":""},{"$f":"IF(M51=\"\",\"\",INDEX(名前!$W$4:$W$59,MATCH(M51,名前!$V$4:$V$59,0)))","v":""}]
[33,null,null,null,null,null,"","",null,null,null,null,null,null,"",{"$f":"IF(I52=\"\",\"\",INDEX(名前!$W$4:$W$59,MATCH(I52,名前!$V$4:$V$59,0)))","v":""},{"$f":"IF(K52=\"\",\"\",INDEX(名前!$W$4:$W$59,MATCH(K52,名前!$V$4:$V$59,0)))","v":""},{"$f":"IF(M52=\"\",\"\",INDEX(名前!$W$4:$W$59,MATCH(M52,名前!$V$4:$V$59,0)))","v":""}]
[34,null,null,null,null,null,"","",null,null,null,null,null,null,"",{"$f":"IF(I53=\"\",\"\",INDEX(名前!$W$4:$W$59,MATCH(I53,名前!$V$4:$V$59,0)))","v":""},{"$f":"IF(K53=\"\",\"\",INDEX(名前!$W$4:$W$59,MATCH(K53,名前!$V$4:$V$59,0)))","v":""},{"$f":"IF(M53=\"\",\"\",INDEX(名前!$W$4:$W$59,MATCH(M53,名前!$V$4:$V$59,0)))","v":""}]
[35,null,null,null,null,null,"","",null,null,null,null,null,null,"",{"$f":"IF(I54=\"\",\"\",INDEX(名前!$W$4:$W$59,MATCH(I54,名前!$V$4:$V$59,0)))","v":""},{"$f":"IF(K54=\"\",\"\",INDEX(名前!$W$4:$W$59,MATCH(K54,名前!$V$4:$V$59,0)))","v":""},{"$f":"IF(M54=\"\",\"\",INDEX(名前!$W$4:$W$59,MATCH(M54,名前!$V$4:$V$59,0)))","v":""}]
[36,null,null,null,null,null,"","",null,null,null,null,null,null,"",{"$f":"IF(I55=\"\",\"\",INDEX(名前!$W$4:$W$59,MATCH(I55,名前!$V$4:$V$59,0)))","v":""},{"$f":"IF(K55=\"\",\"\",INDEX(名前!$W$4:$W$59,MATCH(K55,名前!$V$4:$V$59,0)))","v":""},{"$f":"IF(M55=\"\",\"\",INDEX(名前!$W$4:$W$59,MATCH(M55,名前!$V$4:$V$59,0)))","v":""}]
[37,null,null,null,null,null,"","",null,null,null,null,null,null,"",{"$f":"IF(I56=\"\",\"\",INDEX(名前!$W$4:$W$59,MATCH(I56,名前!$V$4:$V$59,0)))","v":""},{"$f":"IF(K56=\"\",\"\",INDEX(名前!$W$4:$W$59,MATCH(K56,名前!$V$4:$V$59,0)))","v":""},{"$f":"IF(M56=\"\",\"\",INDEX(名前!$W$4:$W$59,MATCH(M56,名前!$V$4:$V$59,0)))","v":""}]
[38,null,null,null,null,null,"","",null,null,null,null,null,null,"",{"$f":"IF(I57=\"\",\"\",INDEX(名前!$W$4:$W$59,MATCH(I57,名前!$V$4:$V$59,0)))","v":""},{"$f":"IF(K57=\"\",\"\",INDEX(名前!$W$4:$W$59,MATCH(K57,名前!$V$4:$V$59,0)))","v":""},{"$f":"IF(M57=\"\",\"\",INDEX(名前!$W$4:$W$59,MATCH(M57,名前!$V$4:$V$59,0)))","v":""}]
[39,null,null,null,null,null,"","",null,null,null,null,null,null,"",{"$f":"IF(I58=\"\",\"\",INDEX(名前!$W$4:$W$59,MATCH(I58,名前!$V$4:$V$59,0)))","v":""},{"$f":"IF(K58=\"\",\"\",INDEX(名前!$W$4:$W$59,MATCH(K58,名前!$V$4:$V$59,0)))","v":""},{"$f":"IF(M58=\"\",\"\",INDEX(名前!$W$4:$W$59,MATCH(M58,名前!$V$4:$V$59,0)))","v":""}]
[40,null,null,null,null,null,"","",null,null,null,null,null,null,"",{"$f":"IF(I59=\"\",\"\",INDEX(名前!$W$4:$W$59,MATCH(I59,名前!$V$4:$V$59,0)))","v":""},{"$f":"IF(K59=\"\",\"\",INDEX(名前!$W$4:$W$59,MATCH(K59,名前!$V$4:$V$59,0)))","v":""},{"$f":"IF(M59=\"\",\"\",INDEX(名前!$W$4:$W$59,MATCH(M59,名前!$V$4:$V$59,0)))","v":""}]
[41,null,null,null,null,null,"","",null,null,null,null,null,null,"",{"$f":"IF(I60=\"\",\"\",INDEX(名前!$W$4:$W$59,MATCH(I60,名前!$V$4:$V$59,0)))","v":""},{"$f":"IF(K60=\"\",\"\",INDEX(名前!$W$4:$W$59,MATCH(K60,名前!$V$4:$V$59,0)))","v":""},{"$f":"IF(M60=\"\",\"\",INDEX(名前!$W$4:$W$59,MATCH(M60,名前!$V$4:$V$59,0)))","v":""}]
[42,null,null,null,null,null,"","",null,null,null,null,null,null,"",{"$f":"IF(I61=\"\",\"\",INDEX(名前!$W$4:$W$59,MATCH(I61,名前!$V$4:$V$59,0)))","v":""},{"$f":"IF(K61=\"\",\"\",INDEX(名前!$W$4:$W$59,MATCH(K61,名前!$V$4:$V$59,0)))","v":""},{"$f":"IF(M61=\"\",\"\",INDEX(名前!$W$4:$W$59,MATCH(M61,名前!$V$4:$V$59,0)))","v":""}]
[43,null,null,null,null,null,"","",null,null,null,null,null,null,"",{"$f":"IF(I62=\"\",\"\",INDEX(名前!$W$4:$W$59,MATCH(I62,名前!$V$4:$V$59,0)))","v":""},{"$f":"IF(K62=\"\",\"\",INDEX(名前!$W$4:$W$59,MATCH(K62,名前!$V$4:$V$59,0)))","v":""},{"$f":"IF(M62=\"\",\"\",INDEX(名前!$W$4:$W$59,MATCH(M62,名前!$V$4:$V$59,0)))","v":""}]
[44,null,null,null,null,null,"","",null,null,null,null,null,null,"",{"$f":"IF(I63=\"\",\"\",INDEX(名前!$W$4:$W$59,MATCH(I63,名前!$V$4:$V$59,0)))","v":""},{"$f":"IF(K63=\"\",\"\",INDEX(名前!$W$4:$W$59,MATCH(K63,名前!$V$4:$V$59,0)))","v":""},{"$f":"IF(M63=\"\",\"\",INDEX(名前!$W$4:$W$59,MATCH(M63,名前!$V$4:$V$59,0)))","v":""}]
[45,null,null,null,null,null,"","",null,null,null,null,null,null,"",{"$f":"IF(I64=\"\",\"\",INDEX(名前!$W$4:$W$59,MATCH(I64,名前!$V$4:$V$59,0)))","v":""},{"$f":"IF(K64=\"\",\"\",INDEX(名前!$W$4:$W$59,MATCH(K64,名前!$V$4:$V$59,0)))","v":""},{"$f":"IF(M64=\"\",\"\",INDEX(名前!$W$4:$W$59,MATCH(M64,名前!$V$4:$V$59,0)))","v":""}]
[46,null,null,null,null,null,"","",null,null,null,null,null,null,"",{"$f":"IF(I65=\"\",\"\",INDEX(名前!$W$4:$W$59,MATCH(I65,名前!$V$4:$V$59,0)))","v":""},{"$f":"IF(K65=\"\",\"\",INDEX(名前!$W$4:$W$59,MATCH(K65,名前!$V$4:$V$59,0)))","v":""},{"$f":"IF(M65=\"\",\"\",INDEX(名前!$W$4:$W$59,MATCH(M65,名前!$V$4:$V$59,0)))","v":""}]
[47,null,null,null,null,null,"","",null,null,null,null,null,null,"",{"$f":"IF(I66=\"\",\"\",INDEX(名前!$W$4:$W$59,MATCH(I66,名前!$V$4:$V$59,0)))","v":""},{"$f":"IF(K66=\"\",\"\",INDEX(名前!$W$4:$W$59,MATCH(K66,名前!$V$4:$V$59,0)))","v":""},{"$f":"IF(M66=\"\",\"\",INDEX(名前!$W$4:$W$59,MATCH(M66,名前!$V$4:$V$59,0)))","v":""}]
[48,null,null,null,null,null,"","",null,null,null,null,null,null,"",{"$f":"IF(I67=\"\",\"\",INDEX(名前!$W$4:$W$59,MATCH(I67,名前!$V$4:$V$59,0)))","v":""},{"$f":"IF(K67=\"\",\"\",INDEX(名前!$W$4:$W$59,MATCH(K67,名前!$V$4:$V$59,0)))","v":""},{"$f":"IF(M67=\"\",\"\",INDEX(名前!$W$4:$W$59,MATCH(M67,名前!$V$4:$V$59,0)))","v":""}]
[49,null,null,null,null,null,"","",null,null,null,null,null,null,"",{"$f":"IF(I68=\"\",\"\",INDEX(名前!$W$4:$W$59,MATCH(I68,名前!$V$4:$V$59,0)))","v":""},{"$f":"IF(K68=\"\",\"\",INDEX(名前!$W$4:$W$59,MATCH(K68,名前!$V$4:$V$59,0)))","v":""},{"$f":"IF(M68=\"\",\"\",INDEX(名前!$W$4:$W$59,MATCH(M68,名前!$V$4:$V$59,0)))","v":""}]
[50,null,null,null,null,null,"","",null,null,null,null,null,null,"",{"$f":"IF(I69=\"\",\"\",INDEX(名前!$W$4:$W$59,MATCH(I69,名前!$V$4:$V$59,0)))","v":""},{"$f":"IF(K69=\"\",\"\",INDEX(名前!$W$4:$W$59,MATCH(K69,名前!$V$4:$V$59,0)))","v":""},{"$f":"IF(M69=\"\",\"\",INDEX(名前!$W$4:$W$59,MATCH(M69,名前!$V$4:$V$59,0)))","v":""}]
[51,null,null,null,null,null,"","",null,null,null,null,null,null,"",{"$f":"IF(I70=\"\",\"\",INDEX(名前!$W$4:$W$59,MATCH(I70,名前!$V$4:$V$59,0)))","v":""},{"$f":"IF(K70=\"\",\"\",INDEX(名前!$W$4:$W$59,MATCH(K70,名前!$V$4:$V$59,0)))","v":""},{"$f":"IF(M70=\"\",\"\",INDEX(名前!$W$4:$W$59,MATCH(M70,名前!$V$4:$V$59,0)))","v":""}]
[52,null,null,null,null,null,"","",null,null,null,null,null,null,"",{"$f":"IF(I71=\"\",\"\",INDEX(名前!$W$4:$W$59,MATCH(I71,名前!$V$4:$V$59,0)))","v":""},{"$f":"IF(K71=\"\",\"\",INDEX(名前!$W$4:$W$59,MATCH(K71,名前!$V$4:$V$59,0)))","v":""},{"$f":"IF(M71=\"\",\"\",INDEX(名前!$W$4:$W$59,MATCH(M71,名前!$V$4:$V$59,0)))","v":""}]
[53,null,null,null,null,null,"","",null,null,null,null,null,null,"",{"$f":"IF(I72=\"\",\"\",INDEX(名前!$W$4:$W$59,MATCH(I72,名前!$V$4:$V$59,0)))","v":""},{"$f":"IF(K72=\"\",\"\",INDEX(名前!$W$4:$W$59,MATCH(K72,名前!$V$4:$V$59,0)))","v":""},{"$f":"IF(M72=\"\",\"\",INDEX(名前!$W$4:$W$59,MATCH(M72,名前!$V$4:$V$59,0)))","v":""}]
[54,null,null,null,null,null,"","",null,null,null,null,null,null,"",{"$f":"IF(I73=\"\",\"\",INDEX(名前!$W$4:$W$59,MATCH(I73,名前!$V$4:$V$59,0)))","v":""},{"$f":"IF(K73=\"\",\"\",INDEX(名前!$W$4:$W$59,MATCH(K73,名前!$V$4:$V$59,0)))","v":""},{"$f":"IF(M73=\"\",\"\",INDEX(名前!$W$4:$W$59,MATCH(M73,名前!$V$4:$V$59,0)))","v":""}]
[55,null,null,null,null,null,"","",null,null,null,null,null,null,"",{"$f":"IF(I74=\"\",\"\",INDEX(名前!$W$4:$W$59,MATCH(I74,名前!$V$4:$V$59,0)))","v":""},{"$f":"IF(K74=\"\",\"\",INDEX(名前!$W$4:$W$59,MATCH(K74,名前!$V$4:$V$59,0)))","v":""},{"$f":"IF(M74=\"\",\"\",INDEX(名前!$W$4:$W$59,MATCH(M74,名前!$V$4:$V$59,0)))","v":""}]
[56,null,null,null,null,null,"","",null,null,null,null,null,null,"",{"$f":"IF(I75=\"\",\"\",INDEX(名前!$W$4:$W$59,MATCH(I75,名前!$V$4:$V$59,0)))","v":""},{"$f":"IF(K75=\"\",\"\",INDEX(名前!$W$4:$W$59,MATCH(K75,名前!$V$4:$V$59,0)))","v":""},{"$f":"IF(M75=\"\",\"\",INDEX(名前!$W$4:$W$59,MATCH(M75,名前!$V$4:$V$59,0)))","v":""}]
[57,null,null,null,null,null,"","",null,null,null,null,null,null,"",{"$f":"IF(I76=\"\",\"\",INDEX(名前!$W$4:$W$59,MATCH(I76,名前!$V$4:$V$59,0)))","v":""},{"$f":"IF(K76=\"\",\"\",INDEX(名前!$W$4:$W$59,MATCH(K76,名前!$V$4:$V$59,0)))","v":""},{"$f":"IF(M76=\"\",\"\",INDEX(名前!$W$4:$W$59,MATCH(M76,名前!$V$4:$V$59,0)))","v":""}]
[58,null,null,null,null,null,"","",null,null,null,null,null,null,"",{"$f":"IF(I77=\"\",\"\",INDEX(名前!$W$4:$W$59,MATCH(I77,名前!$V$4:$V$59,0)))","v":""},{"$f":"IF(K77=\"\",\"\",INDEX(名前!$W$4:$W$59,MATCH(K77,名前!$V$4:$V$59,0)))","v":""},{"$f":"IF(M77=\"\",\"\",INDEX(名前!$W$4:$W$59,MATCH(M77,名前!$V$4:$V$59,0)))","v":""}]
[59,null,null,null,null,null,"","",null,null,null,null,null,null,"",{"$f":"IF(I78=\"\",\"\",INDEX(名前!$W$4:$W$59,MATCH(I78,名前!$V$4:$V$59,0)))","v":""},{"$f":"IF(K78=\"\",\"\",INDEX(名前!$W$4:$W$59,MATCH(K78,名前!$V$4:$V$59,0)))","v":""},{"$f":"IF(M78=\"\",\"\",INDEX(名前!$W$4:$W$59,MATCH(M78,名前!$V$4:$V$59,0)))","v":""}]
[60,null,null,null,null,null,"","",null,null,null,null,null,null,"",{"$f":"IF(I79=\"\",\"\",INDEX(名前!$W$4:$W$59,MATCH(I79,名前!$V$4:$V$59,0)))","v":""},{"$f":"IF(K79=\"\",\"\",INDEX(名前!$W$4:$W$59,MATCH(K79,名前!$V$4:$V$59,0)))","v":""},{"$f":"IF(M79=\"\",\"\",INDEX(名前!$W$4:$W$59,MATCH(M79,名前!$V$4:$V$59,0)))","v":""}]
[61,null,null,null,null,null,"","",null,null,null,null,null,null,"",{"$f":"IF(I80=\"\",\"\",INDEX(名前!$W$4:$W$59,MATCH(I80,名前!$V$4:$V$59,0)))","v":""},{"$f":"IF(K80=\"\",\"\",INDEX(名前!$W$4:$W$59,MATCH(K80,名前!$V$4:$V$59,0)))","v":""},{"$f":"IF(M80=\"\",\"\",INDEX(名前!$W$4:$W$59,MATCH(M80,名前!$V$4:$V$59,0)))","v":""}]
[62,null,null,null,null,null,"","",null,null,null,null,null,null,"",{"$f":"IF(I81=\"\",\"\",INDEX(名前!$W$4:$W$59,MATCH(I81,名前!$V$4:$V$59,0)))","v":""},{"$f":"IF(K81=\"\",\"\",INDEX(名前!$W$4:$W$59,MATCH(K81,名前!$V$4:$V$59,0)))","v":""},{"$f":"IF(M81=\"\",\"\",INDEX(名前!$W$4:$W$59,MATCH(M81,名前!$V$4:$V$59,0)))","v":""}]
[63,null,null,null,null,null,"","",null,null,null,null,null,null,"",{"$f":"IF(I82=\"\",\"\",INDEX(名前!$W$4:$W$59,MATCH(I82,名前!$V$4:$V$59,0)))","v":""},{"$f":"IF(K82=\"\",\"\",INDEX(名前!$W$4:$W$59,MATCH(K82,名前!$V$4:$V$59,0)))","v":""},{"$f":"IF(M82=\"\",\"\",INDEX(名前!$W$4:$W$59,MATCH(M82,名前!$V$4:$V$59,0)))","v":""}]
[64,null,null,null,null,null,"","",null,null,null,null,null,null,"",{"$f":"IF(I83=\"\",\"\",INDEX(名前!$W$4:$W$59,MATCH(I83,名前!$V$4:$V$59,0)))","v":""},{"$f":"IF(K83=\"\",\"\",INDEX(名前!$W$4:$W$59,MATCH(K83,名前!$V$4:$V$59,0)))","v":""},{"$f":"IF(M83=\"\",\"\",INDEX(名前!$W$4:$W$59,MATCH(M83,名前!$V$4:$V$59,0)))","v":""}]
[65,null,null,null,null,null,"","",null,null,null,null,null,null,"",{"$f":"IF(I84=\"\",\"\",INDEX(名前!$W$4:$W$59,MATCH(I84,名前!$V$4:$V$59,0)))","v":""},{"$f":"IF(K84=\"\",\"\",INDEX(名前!$W$4:$W$59,MATCH(K84,名前!$V$4:$V$59,0)))","v":""},{"$f":"IF(M84=\"\",\"\",INDEX(名前!$W$4:$W$59,MATCH(M84,名前!$V$4:$V$59,0)))","v":""}]
[66,null,null,null,null,null,{"$f":"IF(B85=\"\",\"\",$F$11)","v":""},{"$f":"IF(B85=\"\",\"\",$C$11)","v":""},null,null,null,null,null,null,{"$f":"IF(F85=\"\",\"\",$K$11&F85)","v":""},{"$f":"IF(I85=\"\",\"\",INDEX(名前!$W$4:$W$59,MATCH(I85,名前!$V$4:$V$59,0)))","v":""},{"$f":"IF(K85=\"\",\"\",INDEX(名前!$W$4:$W$59,MATCH(K85,名前!$V$4:$V$59,0)))","v":""},{"$f":"IF(M85=\"\",\"\",INDEX(名前!$W$4:$W$59,MATCH(M85,名前!$V$4:$V$59,0)))","v":""}]
[67,null,null,null,null,null,"","",null,null,null,null,null,null,"",{"$f":"IF(I86=\"\",\"\",INDEX(名前!$W$4:$W$59,MATCH(I86,名前!$V$4:$V$59,0)))","v":""},{"$f":"IF(K86=\"\",\"\",INDEX(名前!$W$4:$W$59,MATCH(K86,名前!$V$4:$V$59,0)))","v":""},{"$f":"IF(M86=\"\",\"\",INDEX(名前!$W$4:$W$59,MATCH(M86,名前!$V$4:$V$59,0)))","v":""}]
[68,null,null,null,null,null,"","",null,null,null,null,null,null,"",{"$f":"IF(I87=\"\",\"\",INDEX(名前!$W$4:$W$59,MATCH(I87,名前!$V$4:$V$59,0)))","v":""},{"$f":"IF(K87=\"\",\"\",INDEX(名前!$W$4:$W$59,MATCH(K87,名前!$V$4:$V$59,0)))","v":""},{"$f":"IF(M87=\"\",\"\",INDEX(名前!$W$4:$W$59,MATCH(M87,名前!$V$4:$V$59,0)))","v":""}]
[69,null,null,null,null,null,"","",null,null,null,null,null,null,"",{"$f":"IF(I88=\"\",\"\",INDEX(名前!$W$4:$W$59,MATCH(I88,名前!$V$4:$V$59,0)))","v":""},{"$f":"IF(K88=\"\",\"\",INDEX(名前!$W$4:$W$59,MATCH(K88,名前!$V$4:$V$59,0)))","v":""},{"$f":"IF(M88=\"\",\"\",INDEX(名前!$W$4:$W$59,MATCH(M88,名前!$V$4:$V$59,0)))","v":""}]
[70,null,null,null,null,null,"","",null,null,null,null,null,null,"",{"$f":"IF(I89=\"\",\"\",INDEX(名前!$W$4:$W$59,MATCH(I89,名前!$V$4:$V$59,0)))","v":""},{"$f":"IF(K89=\"\",\"\",INDEX(名前!$W$4:$W$59,MATCH(K89,名前!$V$4:$V$59,0)))","v":""},{"$f":"IF(M89=\"\",\"\",INDEX(名前!$W$4:$W$59,MATCH(M89,名前!$V$4:$V$59,0)))","v":""}]
[71,null,null,null,null,null,"","",null,null,null,null,null,null,"",{"$f":"IF(I90=\"\",\"\",INDEX(名前!$W$4:$W$59,MATCH(I90,名前!$V$4:$V$59,0)))","v":""},{"$f":"IF(K90=\"\",\"\",INDEX(名前!$W$4:$W$59,MATCH(K90,名前!$V$4:$V$59,0)))","v":""},{"$f":"IF(M90=\"\",\"\",INDEX(名前!$W$4:$W$59,MATCH(M90,名前!$V$4:$V$59,0)))","v":""}]
[72,null,null,null,null,null,"","",null,null,null,null,null,null,"",{"$f":"IF(I91=\"\",\"\",INDEX(名前!$W$4:$W$59,MATCH(I91,名前!$V$4:$V$59,0)))","v":""},{"$f":"IF(K91=\"\",\"\",INDEX(名前!$W$4:$W$59,MATCH(K91,名前!$V$4:$V$59,0)))","v":""},{"$f":"IF(M91=\"\",\"\",INDEX(名前!$W$4:$W$59,MATCH(M91,名前!$V$4:$V$59,0)))","v":""}]
[73,null,null,null,null,null,"","",null,null,null,null,null,null,"",{"$f":"IF(I92=\"\",\"\",INDEX(名前!$W$4:$W$59,MATCH(I92,名前!$V$4:$V$59,0)))","v":""},{"$f":"IF(K92=\"\",\"\",INDEX(名前!$W$4:$W$59,MATCH(K92,名前!$V$4:$V$59,0)))","v":""},{"$f":"IF(M92=\"\",\"\",INDEX(名前!$W$4:$W$59,MATCH(M92,名前!$V$4:$V$59,0)))","v":""}]
[74,null,null,null,null,null,"","",null,null,null,null,null,null,"",{"$f":"IF(I93=\"\",\"\",INDEX(名前!$W$4:$W$59,MATCH(I93,名前!$V$4:$V$59,0)))","v":""},{"$f":"IF(K93=\"\",\"\",INDEX(名前!$W$4:$W$59,MATCH(K93,名前!$V$4:$V$59,0)))","v":""},{"$f":"IF(M93=\"\",\"\",INDEX(名前!$W$4:$W$59,MATCH(M93,名前!$V$4:$V$59,0)))","v":""}]
[75,null,null,null,null,null,"","",null,null,null,null,null,null,"",{"$f":"IF(I94=\"\",\"\",INDEX(名前!$W$4:$W$59,MATCH(I94,名前!$V$4:$V$59,0)))","v":""},{"$f":"IF(K94=\"\",\"\",INDEX(名前!$W$4:$W$59,MATCH(K94,名前!$V$4:$V$59,0)))","v":""},{"$f":"IF(M94=\"\",\"\",INDEX(名前!$W$4:$W$59,MATCH(M94,名前!$V$4:$V$59,0)))","v":""}]
[76,null,null,null,null,null,"","",null,null,null,null,null,null,"",{"$f":"IF(I95=\"\",\"\",INDEX(名前!$W$4:$W$59,MATCH(I95,名前!$V$4:$V$59,0)))","v":""},{"$f":"IF(K95=\"\",\"\",INDEX(名前!$W$4:$W$59,MATCH(K95,名前!$V$4:$V$59,0)))","v":""},{"$f":"IF(M95=\"\",\"\",INDEX(名前!$W$4:$W$59,MATCH(M95,名前!$V$4:$V$59,0)))","v":""}]
[77,null,null,null,null,null,"","",null,null,null,null,null,null,"",{"$f":"IF(I96=\"\",\"\",INDEX(名前!$W$4:$W$59,MATCH(I96,名前!$V$4:$V$59,0)))","v":""},{"$f":"IF(K96=\"\",\"\",INDEX(名前!$W$4:$W$59,MATCH(K96,名前!$V$4:$V$59,0)))","v":""},{"$f":"IF(M96=\"\",\"\",INDEX(名前!$W$4:$W$59,MATCH(M96,名前!$V$4:$V$59,0)))","v":""}]
[78,null,null,null,null,null,"","",null,null,null,null,null,null,"",{"$f":"IF(I97=\"\",\"\",INDEX(名前!$W$4:$W$59,MATCH(I97,名前!$V$4:$V$59,0)))","v":""},{"$f":"IF(K97=\"\",\"\",INDEX(名前!$W$4:$W$59,MATCH(K97,名前!$V$4:$V$59,0)))","v":""},{"$f":"IF(M97=\"\",\"\",INDEX(名前!$W$4:$W$59,MATCH(M97,名前!$V$4:$V$59,0)))","v":""}]
[79,null,null,null,null,null,"","",null,null,null,null,null,null,"",{"$f":"IF(I98=\"\",\"\",INDEX(名前!$W$4:$W$59,MATCH(I98,名前!$V$4:$V$59,0)))","v":""},{"$f":"IF(K98=\"\",\"\",INDEX(名前!$W$4:$W$59,MATCH(K98,名前!$V$4:$V$59,0)))","v":""},{"$f":"IF(M98=\"\",\"\",INDEX(名前!$W$4:$W$59,MATCH(M98,名前!$V$4:$V$59,0)))","v":""}]
[80,null,null,null,null,null,"","",null,null,null,null,null,null,"",{"$f":"IF(I99=\"\",\"\",INDEX(名前!$W$4:$W$59,MATCH(I99,名前!$V$4:$V$59,0)))","v":""},{"$f":"IF(K99=\"\",\"\",INDEX(名前!$W$4:$W$59,MATCH(K99,名前!$V$4:$V$59,0)))","v":""},{"$f":"IF(M99=\"\",\"\",INDEX(名前!$W$4:$W$59,MATCH(M99,名前!$V$4:$V$59,0)))","v":""}]

{"sheet":"リレー","index":3,"n_rows":25,"n_cols":16,"rows_kept":25,"cut":false,"hidden":true,"merged":[[6,0,6,8],[0,0,0,8],[2,6,2,8],[4,0,4,8],[5,0,5,8]]}
["徳島強化記録会 兼 小学生強化大会　リレーエントリー"]
[]
[null,null,null,null,null,null,{"$f":"IF(申込一覧!F11=\"\",\"\",申込一覧!F11)","v":""}]
[]
["注１　選手の欄にナンバーカード（半角数字）を入力してください。"]
["注2　リレーのみの参加選手も【申込一覧】に入力してください。"]
["注3　同種目に複数チーム参加する場合はチーム欄に「 A，B，C，・・・・ 」等をリストより選択してください。"]
["注4　同種目に1チームの場合はチーム欄は空白でお願いします。"]
[]
["種目","チーム","最高記録","選手①","選手②","選手③","選手④","選手⑤","選手⑥"]
["女4×100mR","A",10091,1045,1047,1043,1044,null,null,null,{"$f":"IF(D11=\"\",\"\",IF(LEFT($A11,1)=\"男\",10000+D11,IF(LEFT($A11,1)=\"女\",20000+D11,\"\")))","v":21045},21047,21043,21044,"",""]
[null,null,null,null,null,null,null,null,null,null,{"$f":"IF(D12=\"\",\"\",IF(LEFT($A12,1)=\"男\",10000+D12,IF(LEFT($A12,1)=\"女\",20000+D12,\"\")))","v":""},{"$f":"IF(E12=\"\",\"\",IF(LEFT($A12,1)=\"男\",10000+E12,IF(LEFT($A12,1)=\"女\",20000+E12,\"\")))","v":""},{"$f":"IF(F12=\"\",\"\",IF(LEFT($A12,1)=\"男\",10000+F12,IF(LEFT($A12,1)=\"女\",20000+F12,\"\")))","v":""},{"$f":"IF(G12=\"\",\"\",IF(LEFT($A12,1)=\"男\",10000+G12,IF(LEFT($A12,1)=\"女\",20000+G12,\"\")))","v":""},{"$f":"IF(H12=\"\",\"\",IF(LEFT($A12,1)=\"男\",10000+H12,IF(LEFT($A12,1)=\"女\",20000+H12,\"\")))","v":""},{"$f":"IF(I12=\"\",\"\",IF(LEFT($A12,1)=\"男\",10000+I12,IF(LEFT($A12,1)=\"女\",20000+I12,\"\")))","v":""}]
[null,null,null,null,null,null,null,null,null,null,"","","","","",""]
[null,null,null,null,null,null,null,null,null,null,"","","","","",""]
[null,null,null,null,null,null,null,null,null,null,"","","","","",""]
[null,null,null,null,null,null,null,null,null,null,"","","","","",""]
[null,null,null,null,null,null,null,null,null,null,"","","","","",""]
[null,null,null,null,null,null,null,null,null,null,"","","","","",""]
[null,null,null,null,null,null,null,null,null,null,"","","","","",""]
[null,null,null,null,null,null,null,null,null,null,"","","","","",""]
[null,null,null,null,null,null,null,null,null,null,"","","","","",""]
[null,null,null,null,null,null,null,null,null,null,"","","","","",""]
[null,null,null,null,null,null,null,null,null,null,"","","","","",""]
[null,null,null,null,null,null,null,null,null,null,"","","","","",""]
[null,null,null,null,null,null,null,null,null,null,"","","","","",""]

{"sheet":"ﾘﾚｰDB","index":4,"n_rows":30,"n_cols":12,"rows_kept":30,"cut":false,"hidden":true,"merged":[]}
[null,"DB","ZK","N1","N2","TM","S1","S2","S3","S4","S5","S6"]
[{"$f":"IF(リレー!A11=\"\",\"\",リレー!A11)","v":"女4×100mR"},{"$f":"IF(リレー!A11=\"\",\"\",申込一覧!$F$11)&IF(リレー!B11=\"\",\"\",リレー!B11)","v":"A"},null,{"$f":"IF(リレー!A11=\"\",\"\",申込一覧!$F$11)&IF(リレー!B11=\"\",\"\",リレー!B11)","v":"A"},null,{"$f":"IF(リレー!C11=\"\",\"\",リレー!C11)","v":10091},{"$f":"IF(リレー!D11=\"\",\"\",INDEX(競技者!$A$2:$A$81,MATCH(リレー!K11,競技者!$M$2:$M$81,0)))","v":{"$error":"#N/A"}},{"$f":"IF(リレー!E11=\"\",\"\",INDEX(競技者!$A$2:$A$81,MATCH(リレー!L11,競技者!$M$2:$M$81,0)))","v":{"$error":"#N/A"}},{"$f":"IF(リレー!F11=\"\",\"\",INDEX(競技者!$A$2:$A$81,MATCH(リレー!M11,競技者!$M$2:$M$81,0)))","v":{"$error":"#N/A"}},{"$f":"IF(リレー!G11=\"\",\"\",INDEX(競技者!$A$2:$A$81,MATCH(リレー!N11,競技者!$M$2:$M$81,0)))","v":{"$error":"#N/A"}},{"$f":"IF(リレー!H11=\"\",\"\",INDEX(競技者!$A$2:$A$81,MATCH(リレー!O11,競技者!$M$2:$M$81,0)))","v":""},{"$f":"IF(リレー!I11=\"\",\"\",INDEX(競技者!$A$2:$A$81,MATCH(リレー!P11,競技者!$M$2:$M$81,0)))","v":""}]
[{"$f":"IF(リレー!A12=\"\",\"\",リレー!A12)","v":""},{"$f":"IF(リレー!A12=\"\",\"\",申込一覧!$F$11)&IF(リレー!B12=\"\",\"\",リレー!B12)","v":""},null,{"$f":"IF(リレー!A12=\"\",\"\",申込一覧!$F$11)&IF(リレー!B12=\"\",\"\",リレー!B12)","v":""},null,{"$f":"IF(リレー!C12=\"\",\"\",リレー!C12)","v":""},{"$f":"IF(リレー!D12=\"\",\"\",INDEX(競技者!$A$2:$A$81,MATCH(リレー!K12,競技者!$M$2:$M$81,0)))","v":""},{"$f":"IF(リレー!E12=\"\",\"\",INDEX(競技者!$A$2:$A$81,MATCH(リレー!L12,競技者!$M$2:$M$81,0)))","v":""},{"$f":"IF(リレー!F12=\"\",\"\",INDEX(競技者!$A$2:$A$81,MATCH(リレー!M12,競技者!$M$2:$M$81,0)))","v":""},{"$f":"IF(リレー!G12=\"\",\"\",INDEX(競技者!$A$2:$A$81,MATCH(リレー!N12,競技者!$M$2:$M$81,0)))","v":""},{"$f":"IF(リレー!H12=\"\",\"\",INDEX(競技者!$A$2:$A$81,MATCH(リレー!O12,競技者!$M$2:$M$81,0)))","v":""},{"$f":"IF(リレー!I12=\"\",\"\",INDEX(競技者!$A$2:$A$81,MATCH(リレー!P12,競技者!$M$2:$M$81,0)))","v":""}]
[{"$f":"IF(リレー!A13=\"\",\"\",リレー!A13)","v":""},{"$f":"IF(リレー!A13=\"\",\"\",申込一覧!$F$11)&IF(リレー!B13=\"\",\"\",リレー!B13)","v":""},null,{"$f":"IF(リレー!A13=\"\",\"\",申込一覧!$F$11)&IF(リレー!B13=\"\",\"\",リレー!B13)","v":""},null,{"$f":"IF(リレー!C13=\"\",\"\",リレー!C13)","v":""},{"$f":"IF(リレー!D13=\"\",\"\",INDEX(競技者!$A$2:$A$81,MATCH(リレー!K13,競技者!$M$2:$M$81,0)))","v":""},{"$f":"IF(リレー!E13=\"\",\"\",INDEX(競技者!$A$2:$A$81,MATCH(リレー!L13,競技者!$M$2:$M$81,0)))","v":""},{"$f":"IF(リレー!F13=\"\",\"\",INDEX(競技者!$A$2:$A$81,MATCH(リレー!M13,競技者!$M$2:$M$81,0)))","v":""},{"$f":"IF(リレー!G13=\"\",\"\",INDEX(競技者!$A$2:$A$81,MATCH(リレー!N13,競技者!$M$2:$M$81,0)))","v":""},{"$f":"IF(リレー!H13=\"\",\"\",INDEX(競技者!$A$2:$A$81,MATCH(リレー!O13,競技者!$M$2:$M$81,0)))","v":""},{"$f":"IF(リレー!I13=\"\",\"\",INDEX(競技者!$A$2:$A$81,MATCH(リレー!P13,競技者!$M$2:$M$81,0)))","v":""}]
[{"$f":"IF(リレー!A14=\"\",\"\",リレー!A14)","v":""},{"$f":"IF(リレー!A14=\"\",\"\",申込一覧!$F$11)&IF(リレー!B14=\"\",\"\",リレー!B14)","v":""},null,{"$f":"IF(リレー!A14=\"\",\"\",申込一覧!$F$11)&IF(リレー!B14=\"\",\"\",リレー!B14)","v":""},null,{"$f":"IF(リレー!C14=\"\",\"\",リレー!C14)","v":""},{"$f":"IF(リレー!D14=\"\",\"\",INDEX(競技者!$A$2:$A$81,MATCH(リレー!K14,競技者!$M$2:$M$81,0)))","v":""},{"$f":"IF(リレー!E14=\"\",\"\",INDEX(競技者!$A$2:$A$81,MATCH(リレー!L14,競技者!$M$2:$M$81,0)))","v":""},{"$f":"IF(リレー!F14=\"\",\"\",INDEX(競技者!$A$2:$A$81,MATCH(リレー!M14,競技者!$M$2:$M$81,0)))","v":""},{"$f":"IF(リレー!G14=\"\",\"\",INDEX(競技者!$A$2:$A$81,MATCH(リレー!N14,競技者!$M$2:$M$81,0)))","v":""},{"$f":"IF(リレー!H14=\"\",\"\",INDEX(競技者!$A$2:$A$81,MATCH(リレー!O14,競技者!$M$2:$M$81,0)))","v":""},{"$f":"IF(リレー!I14=\"\",\"\",INDEX(競技者!$A$2:$A$81,MATCH(リレー!P14,競技者!$M$2:$M$81,0)))","v":""}]
[{"$f":"IF(リレー!A15=\"\",\"\",リレー!A15)","v":""},{"$f":"IF(リレー!A15=\"\",\"\",申込一覧!$F$11)&IF(リレー!B15=\"\",\"\",リレー!B15)","v":""},null,{"$f":"IF(リレー!A15=\"\",\"\",申込一覧!$F$11)&IF(リレー!B15=\"\",\"\",リレー!B15)","v":""},null,{"$f":"IF(リレー!C15=\"\",\"\",リレー!C15)","v":""},{"$f":"IF(リレー!D15=\"\",\"\",INDEX(競技者!$A$2:$A$81,MATCH(リレー!K15,競技者!$M$2:$M$81,0)))","v":""},{"$f":"IF(リレー!E15=\"\",\"\",INDEX(競技者!$A$2:$A$81,MATCH(リレー!L15,競技者!$M$2:$M$81,0)))","v":""},{"$f":"IF(リレー!F15=\"\",\"\",INDEX(競技者!$A$2:$A$81,MATCH(リレー!M15,競技者!$M$2:$M$81,0)))","v":""},{"$f":"IF(リレー!G15=\"\",\"\",INDEX(競技者!$A$2:$A$81,MATCH(リレー!N15,競技者!$M$2:$M$81,0)))","v":""},{"$f":"IF(リレー!H15=\"\",\"\",INDEX(競技者!$A$2:$A$81,MATCH(リレー!O15,競技者!$M$2:$M$81,0)))","v":""},{"$f":"IF(リレー!I15=\"\",\"\",INDEX(競技者!$A$2:$A$81,MATCH(リレー!P15,競技者!$M$2:$M$81,0)))","v":""}]
[{"$f":"IF(リレー!A16=\"\",\"\",リレー!A16)","v":""},{"$f":"IF(リレー!A16=\"\",\"\",申込一覧!$F$11)&IF(リレー!B16=\"\",\"\",リレー!B16)","v":""},null,{"$f":"IF(リレー!A16=\"\",\"\",申込一覧!$F$11)&IF(リレー!B16=\"\",\"\",リレー!B16)","v":""},null,{"$f":"IF(リレー!C16=\"\",\"\",リレー!C16)","v":""},{"$f":"IF(リレー!D16=\"\",\"\",INDEX(競技者!$A$2:$A$81,MATCH(リレー!K16,競技者!$M$2:$M$81,0)))","v":""},{"$f":"IF(リレー!E16=\"\",\"\",INDEX(競技者!$A$2:$A$81,MATCH(リレー!L16,競技者!$M$2:$M$81,0)))","v":""},{"$f":"IF(リレー!F16=\"\",\"\",INDEX(競技者!$A$2:$A$81,MATCH(リレー!M16,競技者!$M$2:$M$81,0)))","v":""},{"$f":"IF(リレー!G16=\"\",\"\",INDEX(競技者!$A$2:$A$81,MATCH(リレー!N16,競技者!$M$2:$M$81,0)))","v":""},{"$f":"IF(リレー!H16=\"\",\"\",INDEX(競技者!$A$2:$A$81,MATCH(リレー!O16,競技者!$M$2:$M$81,0)))","v":""},{"$f":"IF(リレー!I16=\"\",\"\",INDEX(競技者!$A$2:$A$81,MATCH(リレー!P16,競技者!$M$2:$M$81,0)))","v":""}]
[{"$f":"IF(リレー!A17=\"\",\"\",リレー!A17)","v":""},{"$f":"IF(リレー!A17=\"\",\"\",申込一覧!$F$11)&IF(リレー!B17=\"\",\"\",リレー!B17)","v":""},null,{"$f":"IF(リレー!A17=\"\",\"\",申込一覧!$F$11)&IF(リレー!B17=\"\",\"\",リレー!B17)","v":""},null,{"$f":"IF(リレー!C17=\"\",\"\",リレー!C17)","v":""},{"$f":"IF(リレー!D17=\"\",\"\",INDEX(競技者!$A$2:$A$81,MATCH(リレー!K17,競技者!$M$2:$M$81,0)))","v":""},{"$f":"IF(リレー!E17=\"\",\"\",INDEX(競技者!$A$2:$A$81,MATCH(リレー!L17,競技者!$M$2:$M$81,0)))","v":""},{"$f":"IF(リレー!F17=\"\",\"\",INDEX(競技者!$A$2:$A$81,MATCH(リレー!M17,競技者!$M$2:$M$81,0)))","v":""},{"$f":"IF(リレー!G17=\"\",\"\",INDEX(競技者!$A$2:$A$81,MATCH(リレー!N17,競技者!$M$2:$M$81,0)))","v":""},{"$f":"IF(リレー!H17=\"\",\"\",INDEX(競技者!$A$2:$A$81,MATCH(リレー!O17,競技者!$M$2:$M$81,0)))","v":""},{"$f":"IF(リレー!I17=\"\",\"\",INDEX(競技者!$A$2:$A$81,MATCH(リレー!P17,競技者!$M$2:$M$81,0)))","v":""}]
[{"$f":"IF(リレー!A18=\"\",\"\",リレー!A18)","v":""},{"$f":"IF(リレー!A18=\"\",\"\",申込一覧!$F$11)&IF(リレー!B18=\"\",\"\",リレー!B18)","v":""},null,{"$f":"IF(リレー!A18=\"\",\"\",申込一覧!$F$11)&IF(リレー!B18=\"\",\"\",リレー!B18)","v":""},null,{"$f":"IF(リレー!C18=\"\",\"\",リレー!C18)","v":""},{"$f":"IF(リレー!D18=\"\",\"\",INDEX(競技者!$A$2:$A$81,MATCH(リレー!K18,競技者!$M$2:$M$81,0)))","v":""},{"$f":"IF(リレー!E18=\"\",\"\",INDEX(競技者!$A$2:$A$81,MATCH(リレー!L18,競技者!$M$2:$M$81,0)))","v":""},{"$f":"IF(リレー!F18=\"\",\"\",INDEX(競技者!$A$2:$A$81,MATCH(リレー!M18,競技者!$M$2:$M$81,0)))","v":""},{"$f":"IF(リレー!G18=\"\",\"\",INDEX(競技者!$A$2:$A$81,MATCH(リレー!N18,競技者!$M$2:$M$81,0)))","v":""},{"$f":"IF(リレー!H18=\"\",\"\",INDEX(競技者!$A$2:$A$81,MATCH(リレー!O18,競技者!$M$2:$M$81,0)))","v":""},{"$f":"IF(リレー!I18=\"\",\"\",INDEX(競技者!$A$2:$A$81,MATCH(リレー!P18,競技者!$M$2:$M$81,0)))","v":""}]
[{"$f":"IF(リレー!A19=\"\",\"\",リレー!A19)","v":""},{"$f":"IF(リレー!A19=\"\",\"\",申込一覧!$F$11)&IF(リレー!B19=\"\",\"\",リレー!B19)","v":""},null,{"$f":"IF(リレー!A19=\"\",\"\",申込一覧!$F$11)&IF(リレー!B19=\"\",\"\",リレー!B19)","v":""},null,{"$f":"IF(リレー!C19=\"\",\"\",リレー!C19)","v":""},{"$f":"IF(リレー!D19=\"\",\"\",INDEX(競技者!$A$2:$A$81,MATCH(リレー!K19,競技者!$M$2:$M$81,0)))","v":""},{"$f":"IF(リレー!E19=\"\",\"\",INDEX(競技者!$A$2:$A$81,MATCH(リレー!L19,競技者!$M$2:$M$81,0)))","v":""},{"$f":"IF(リレー!F19=\"\",\"\",INDEX(競技者!$A$2:$A$81,MATCH(リレー!M19,競技者!$M$2:$M$81,0)))","v":""},{"$f":"IF(リレー!G19=\"\",\"\",INDEX(競技者!$A$2:$A$81,MATCH(リレー!N19,競技者!$M$2:$M$81,0)))","v":""},{"$f":"IF(リレー!H19=\"\",\"\",INDEX(競技者!$A$2:$A$81,MATCH(リレー!O19,競技者!$M$2:$M$81,0)))","v":""},{"$f":"IF(リレー!I19=\"\",\"\",INDEX(競技者!$A$2:$A$81,MATCH(リレー!P19,競技者!$M$2:$M$81,0)))","v":""}]
[{"$f":"IF(リレー!A20=\"\",\"\",リレー!A20)","v":""},{"$f":"IF(リレー!A20=\"\",\"\",申込一覧!$F$11)&IF(リレー!B20=\"\",\"\",リレー!B20)","v":""},null,{"$f":"IF(リレー!A20=\"\",\"\",申込一覧!$F$11)&IF(リレー!B20=\"\",\"\",リレー!B20)","v":""},null,{"$f":"IF(リレー!C20=\"\",\"\",リレー!C20)","v":""},{"$f":"IF(リレー!D20=\"\",\"\",INDEX(競技者!$A$2:$A$81,MATCH(リレー!K20,競技者!$M$2:$M$81,0)))","v":""},{"$f":"IF(リレー!E20=\"\",\"\",INDEX(競技者!$A$2:$A$81,MATCH(リレー!L20,競技者!$M$2:$M$81,0)))","v":""},{"$f":"IF(リレー!F20=\"\",\"\",INDEX(競技者!$A$2:$A$81,MATCH(リレー!M20,競技者!$M$2:$M$81,0)))","v":""},{"$f":"IF(リレー!G20=\"\",\"\",INDEX(競技者!$A$2:$A$81,MATCH(リレー!N20,競技者!$M$2:$M$81,0)))","v":""},{"$f":"IF(リレー!H20=\"\",\"\",INDEX(競技者!$A$2:$A$81,MATCH(リレー!O20,競技者!$M$2:$M$81,0)))","v":""},{"$f":"IF(リレー!I20=\"\",\"\",INDEX(競技者!$A$2:$A$81,MATCH(リレー!P20,競技者!$M$2:$M$81,0)))","v":""}]
[{"$f":"IF(リレー!A21=\"\",\"\",リレー!A21)","v":""},{"$f":"IF(リレー!A21=\"\",\"\",申込一覧!$F$11)&IF(リレー!B21=\"\",\"\",リレー!B21)","v":""},null,{"$f":"IF(リレー!A21=\"\",\"\",申込一覧!$F$11)&IF(リレー!B21=\"\",\"\",リレー!B21)","v":""},null,{"$f":"IF(リレー!C21=\"\",\"\",リレー!C21)","v":""},{"$f":"IF(リレー!D21=\"\",\"\",INDEX(競技者!$A$2:$A$81,MATCH(リレー!K21,競技者!$M$2:$M$81,0)))","v":""},{"$f":"IF(リレー!E21=\"\",\"\",INDEX(競技者!$A$2:$A$81,MATCH(リレー!L21,競技者!$M$2:$M$81,0)))","v":""},{"$f":"IF(リレー!F21=\"\",\"\",INDEX(競技者!$A$2:$A$81,MATCH(リレー!M21,競技者!$M$2:$M$81,0)))","v":""},{"$f":"IF(リレー!G21=\"\",\"\",INDEX(競技者!$A$2:$A$81,MATCH(リレー!N21,競技者!$M$2:$M$81,0)))","v":""},{"$f":"IF(リレー!H21=\"\",\"\",INDEX(競技者!$A$2:$A$81,MATCH(リレー!O21,競技者!$M$2:$M$81,0)))","v":""},{"$f":"IF(リレー!I21=\"\",\"\",INDEX(競技者!$A$2:$A$81,MATCH(リレー!P21,競技者!$M$2:$M$81,0)))","v":""}]
[{"$f":"IF(リレー!A22=\"\",\"\",リレー!A22)","v":""},{"$f":"IF(リレー!A22=\"\",\"\",申込一覧!$F$11)&IF(リレー!B22=\"\",\"\",リレー!B22)","v":""},null,{"$f":"IF(リレー!A22=\"\",\"\",申込一覧!$F$11)&IF(リレー!B22=\"\",\"\",リレー!B22)","v":""},null,{"$f":"IF(リレー!C22=\"\",\"\",リレー!C22)","v":""},{"$f":"IF(リレー!D22=\"\",\"\",INDEX(競技者!$A$2:$A$81,MATCH(リレー!K22,競技者!$M$2:$M$81,0)))","v":""},{"$f":"IF(リレー!E22=\"\",\"\",INDEX(競技者!$A$2:$A$81,MATCH(リレー!L22,競技者!$M$2:$M$81,0)))","v":""},{"$f":"IF(リレー!F22=\"\",\"\",INDEX(競技者!$A$2:$A$81,MATCH(リレー!M22,競技者!$M$2:$M$81,0)))","v":""},{"$f":"IF(リレー!G22=\"\",\"\",INDEX(競技者!$A$2:$A$81,MATCH(リレー!N22,競技者!$M$2:$M$81,0)))","v":""},{"$f":"IF(リレー!H22=\"\",\"\",INDEX(競技者!$A$2:$A$81,MATCH(リレー!O22,競技者!$M$2:$M$81,0)))","v":""},{"$f":"IF(リレー!I22=\"\",\"\",INDEX(競技者!$A$2:$A$81,MATCH(リレー!P22,競技者!$M$2:$M$81,0)))","v":""}]
[{"$f":"IF(リレー!A23=\"\",\"\",リレー!A23)","v":""},{"$f":"IF(リレー!A23=\"\",\"\",申込一覧!$F$11)&IF(リレー!B23=\"\",\"\",リレー!B23)","v":""},null,{"$f":"IF(リレー!A23=\"\",\"\",申込一覧!$F$11)&IF(リレー!B23=\"\",\"\",リレー!B23)","v":""},null,{"$f":"IF(リレー!C23=\"\",\"\",リレー!C23)","v":""},{"$f":"IF(リレー!D23=\"\",\"\",INDEX(競技者!$A$2:$A$81,MATCH(リレー!K23,競技者!$M$2:$M$81,0)))","v":""},{"$f":"IF(リレー!E23=\"\",\"\",INDEX(競技者!$A$2:$A$81,MATCH(リレー!L23,競技者!$M$2:$M$81,0)))","v":""},{"$f":"IF(リレー!F23=\"\",\"\",INDEX(競技者!$A$2:$A$81,MATCH(リレー!M23,競技者!$M$2:$M$81,0)))","v":""},{"$f":"IF(リレー!G23=\"\",\"\",INDEX(競技者!$A$2:$A$81,MATCH(リレー!N23,競技者!$M$2:$M$81,0)))","v":""},{"$f":"IF(リレー!H23=\"\",\"\",INDEX(競技者!$A$2:$A$81,MATCH(リレー!O23,競技者!$M$2:$M$81,0)))","v":""},{"$f":"IF(リレー!I23=\"\",\"\",INDEX(競技者!$A$2:$A$81,MATCH(リレー!P23,競技者!$M$2:$M$81,0)))","v":""}]
[{"$f":"IF(リレー!A24=\"\",\"\",リレー!A24)","v":""},{"$f":"IF(リレー!A24=\"\",\"\",申込一覧!$F$11)&IF(リレー!B24=\"\",\"\",リレー!B24)","v":""},null,{"$f":"IF(リレー!A24=\"\",\"\",申込一覧!$F$11)&IF(リレー!B24=\"\",\"\",リレー!B24)","v":""},null,{"$f":"IF(リレー!C24=\"\",\"\",リレー!C24)","v":""},{"$f":"IF(リレー!D24=\"\",\"\",INDEX(競技者!$A$2:$A$81,MATCH(リレー!K24,競技者!$M$2:$M$81,0)))","v":""},{"$f":"IF(リレー!E24=\"\",\"\",INDEX(競技者!$A$2:$A$81,MATCH(リレー!L24,競技者!$M$2:$M$81,0)))","v":""},{"$f":"IF(リレー!F24=\"\",\"\",INDEX(競技者!$A$2:$A$81,MATCH(リレー!M24,競技者!$M$2:$M$81,0)))","v":""},{"$f":"IF(リレー!G24=\"\",\"\",INDEX(競技者!$A$2:$A$81,MATCH(リレー!N24,競技者!$M$2:$M$81,0)))","v":""},{"$f":"IF(リレー!H24=\"\",\"\",INDEX(競技者!$A$2:$A$81,MATCH(リレー!O24,競技者!$M$2:$M$81,0)))","v":""},{"$f":"IF(リレー!I24=\"\",\"\",INDEX(競技者!$A$2:$A$81,MATCH(リレー!P24,競技者!$M$2:$M$81,0)))","v":""}]
[{"$f":"IF(リレー!A25=\"\",\"\",リレー!A25)","v":""},{"$f":"IF(リレー!A25=\"\",\"\",申込一覧!$F$11)&IF(リレー!B25=\"\",\"\",リレー!B25)","v":""},null,{"$f":"IF(リレー!A25=\"\",\"\",申込一覧!$F$11)&IF(リレー!B25=\"\",\"\",リレー!B25)","v":""},null,{"$f":"IF(リレー!C25=\"\",\"\",リレー!C25)","v":""},{"$f":"IF(リレー!D25=\"\",\"\",INDEX(競技者!$A$2:$A$81,MATCH(リレー!K25,競技者!$M$2:$M$81,0)))","v":""},{"$f":"IF(リレー!E25=\"\",\"\",INDEX(競技者!$A$2:$A$81,MATCH(リレー!L25,競技者!$M$2:$M$81,0)))","v":""},{"$f":"IF(リレー!F25=\"\",\"\",INDEX(競技者!$A$2:$A$81,MATCH(リレー!M25,競技者!$M$2:$M$81,0)))","v":""},{"$f":"IF(リレー!G25=\"\",\"\",INDEX(競技者!$A$2:$A$81,MATCH(リレー!N25,競技者!$M$2:$M$81,0)))","v":""},{"$f":"IF(リレー!H25=\"\",\"\",INDEX(競技者!$A$2:$A$81,MATCH(リレー!O25,競技者!$M$2:$M$81,0)))","v":""},{"$f":"IF(リレー!I25=\"\",\"\",INDEX(競技者!$A$2:$A$81,MATCH(リレー!P25,競技者!$M$2:$M$81,0)))","v":""}]
[{"$f":"IF(リレー!A26=\"\",\"\",リレー!A26)","v":""},{"$f":"IF(リレー!A26=\"\",\"\",申込一覧!$F$11)&IF(リレー!B26=\"\",\"\",リレー!B26)","v":""},null,{"$f":"IF(リレー!A26=\"\",\"\",申込一覧!$F$11)&IF(リレー!B26=\"\",\"\",リレー!B26)","v":""},null,{"$f":"IF(リレー!C26=\"\",\"\",リレー!C26)","v":""},{"$f":"IF(リレー!D26=\"\",\"\",INDEX(競技者!$A$2:$A$81,MATCH(リレー!K26,競技者!$M$2:$M$81,0)))","v":""},{"$f":"IF(リレー!E26=\"\",\"\",INDEX(競技者!$A$2:$A$81,MATCH(リレー!L26,競技者!$M$2:$M$81,0)))","v":""},{"$f":"IF(リレー!F26=\"\",\"\",INDEX(競技者!$A$2:$A$81,MATCH(リレー!M26,競技者!$M$2:$M$81,0)))","v":""},{"$f":"IF(リレー!G26=\"\",\"\",INDEX(競技者!$A$2:$A$81,MATCH(リレー!N26,競技者!$M$2:$M$81,0)))","v":""},{"$f":"IF(リレー!H26=\"\",\"\",INDEX(競技者!$A$2:$A$81,MATCH(リレー!O26,競技者!$M$2:$M$81,0)))","v":""},{"$f":"IF(リレー!I26=\"\",\"\",INDEX(競技者!$A$2:$A$81,MATCH(リレー!P26,競技者!$M$2:$M$81,0)))","v":""}]
[{"$f":"IF(リレー!A27=\"\",\"\",リレー!A27)","v":""},{"$f":"IF(リレー!A27=\"\",\"\",申込一覧!$F$11)&IF(リレー!B27=\"\",\"\",リレー!B27)","v":""},null,{"$f":"IF(リレー!A27=\"\",\"\",申込一覧!$F$11)&IF(リレー!B27=\"\",\"\",リレー!B27)","v":""},null,{"$f":"IF(リレー!C27=\"\",\"\",リレー!C27)","v":""},{"$f":"IF(リレー!D27=\"\",\"\",INDEX(競技者!$A$2:$A$81,MATCH(リレー!K27,競技者!$M$2:$M$81,0)))","v":""},{"$f":"IF(リレー!E27=\"\",\"\",INDEX(競技者!$A$2:$A$81,MATCH(リレー!L27,競技者!$M$2:$M$81,0)))","v":""},{"$f":"IF(リレー!F27=\"\",\"\",INDEX(競技者!$A$2:$A$81,MATCH(リレー!M27,競技者!$M$2:$M$81,0)))","v":""},{"$f":"IF(リレー!G27=\"\",\"\",INDEX(競技者!$A$2:$A$81,MATCH(リレー!N27,競技者!$M$2:$M$81,0)))","v":""},{"$f":"IF(リレー!H27=\"\",\"\",INDEX(競技者!$A$2:$A$81,MATCH(リレー!O27,競技者!$M$2:$M$81,0)))","v":""},{"$f":"IF(リレー!I27=\"\",\"\",INDEX(競技者!$A$2:$A$81,MATCH(リレー!P27,競技者!$M$2:$M$81,0)))","v":""}]
[{"$f":"IF(リレー!A28=\"\",\"\",リレー!A28)","v":""},{"$f":"IF(リレー!A28=\"\",\"\",申込一覧!$F$11)&IF(リレー!B28=\"\",\"\",リレー!B28)","v":""},null,{"$f":"IF(リレー!A28=\"\",\"\",申込一覧!$F$11)&IF(リレー!B28=\"\",\"\",リレー!B28)","v":""},null,{"$f":"IF(リレー!C28=\"\",\"\",リレー!C28)","v":""},{"$f":"IF(リレー!D28=\"\",\"\",INDEX(競技者!$A$2:$A$81,MATCH(リレー!K28,競技者!$M$2:$M$81,0)))","v":""},{"$f":"IF(リレー!E28=\"\",\"\",INDEX(競技者!$A$2:$A$81,MATCH(リレー!L28,競技者!$M$2:$M$81,0)))","v":""},{"$f":"IF(リレー!F28=\"\",\"\",INDEX(競技者!$A$2:$A$81,MATCH(リレー!M28,競技者!$M$2:$M$81,0)))","v":""},{"$f":"IF(リレー!G28=\"\",\"\",INDEX(競技者!$A$2:$A$81,MATCH(リレー!N28,競技者!$M$2:$M$81,0)))","v":""},{"$f":"IF(リレー!H28=\"\",\"\",INDEX(競技者!$A$2:$A$81,MATCH(リレー!O28,競技者!$M$2:$M$81,0)))","v":""},{"$f":"IF(リレー!I28=\"\",\"\",INDEX(競技者!$A$2:$A$81,MATCH(リレー!P28,競技者!$M$2:$M$81,0)))","v":""}]
[{"$f":"IF(リレー!A29=\"\",\"\",リレー!A29)","v":""},{"$f":"IF(リレー!A29=\"\",\"\",申込一覧!$F$11)&IF(リレー!B29=\"\",\"\",リレー!B29)","v":""},null,{"$f":"IF(リレー!A29=\"\",\"\",申込一覧!$F$11)&IF(リレー!B29=\"\",\"\",リレー!B29)","v":""},null,{"$f":"IF(リレー!C29=\"\",\"\",リレー!C29)","v":""},{"$f":"IF(リレー!D29=\"\",\"\",INDEX(競技者!$A$2:$A$81,MATCH(リレー!K29,競技者!$M$2:$M$81,0)))","v":""},{"$f":"IF(リレー!E29=\"\",\"\",INDEX(競技者!$A$2:$A$81,MATCH(リレー!L29,競技者!$M$2:$M$81,0)))","v":""},{"$f":"IF(リレー!F29=\"\",\"\",INDEX(競技者!$A$2:$A$81,MATCH(リレー!M29,競技者!$M$2:$M$81,0)))","v":""},{"$f":"IF(リレー!G29=\"\",\"\",INDEX(競技者!$A$2:$A$81,MATCH(リレー!N29,競技者!$M$2:$M$81,0)))","v":""},{"$f":"IF(リレー!H29=\"\",\"\",INDEX(競技者!$A$2:$A$81,MATCH(リレー!O29,競技者!$M$2:$M$81,0)))","v":""},{"$f":"IF(リレー!I29=\"\",\"\",INDEX(競技者!$A$2:$A$81,MATCH(リレー!P29,競技者!$M$2:$M$81,0)))","v":""}]
[{"$f":"IF(リレー!A30=\"\",\"\",リレー!A30)","v":""},{"$f":"IF(リレー!A30=\"\",\"\",申込一覧!$F$11)&IF(リレー!B30=\"\",\"\",リレー!B30)","v":""},null,{"$f":"IF(リレー!A30=\"\",\"\",申込一覧!$F$11)&IF(リレー!B30=\"\",\"\",リレー!B30)","v":""},null,{"$f":"IF(リレー!C30=\"\",\"\",リレー!C30)","v":""},{"$f":"IF(リレー!D30=\"\",\"\",INDEX(競技者!$A$2:$A$81,MATCH(リレー!K30,競技者!$M$2:$M$81,0)))","v":""},{"$f":"IF(リレー!E30=\"\",\"\",INDEX(競技者!$A$2:$A$81,MATCH(リレー!L30,競技者!$M$2:$M$81,0)))","v":""},{"$f":"IF(リレー!F30=\"\",\"\",INDEX(競技者!$A$2:$A$81,MATCH(リレー!M30,競技者!$M$2:$M$81,0)))","v":""},{"$f":"IF(リレー!G30=\"\",\"\",INDEX(競技者!$A$2:$A$81,MATCH(リレー!N30,競技者!$M$2:$M$81,0)))","v":""},{"$f":"IF(リレー!H30=\"\",\"\",INDEX(競技者!$A$2:$A$81,MATCH(リレー!O30,競技者!$M$2:$M$81,0)))","v":""},{"$f":"IF(リレー!I30=\"\",\"\",INDEX(競技者!$A$2:$A$81,MATCH(リレー!P30,競技者!$M$2:$M$81,0)))","v":""}]
[{"$f":"IF(リレー!A31=\"\",\"\",リレー!A31)","v":""},{"$f":"IF(リレー!A31=\"\",\"\",申込一覧!$F$11)&IF(リレー!B31=\"\",\"\",リレー!B31)","v":""},null,{"$f":"IF(リレー!A31=\"\",\"\",申込一覧!$F$11)&IF(リレー!B31=\"\",\"\",リレー!B31)","v":""},null,{"$f":"IF(リレー!C31=\"\",\"\",リレー!C31)","v":""},{"$f":"IF(リレー!D31=\"\",\"\",INDEX(競技者!$A$2:$A$81,MATCH(リレー!K31,競技者!$M$2:$M$81,0)))","v":""},{"$f":"IF(リレー!E31=\"\",\"\",INDEX(競技者!$A$2:$A$81,MATCH(リレー!L31,競技者!$M$2:$M$81,0)))","v":""},{"$f":"IF(リレー!F31=\"\",\"\",INDEX(競技者!$A$2:$A$81,MATCH(リレー!M31,競技者!$M$2:$M$81,0)))","v":""},{"$f":"IF(リレー!G31=\"\",\"\",INDEX(競技者!$A$2:$A$81,MATCH(リレー!N31,競技者!$M$2:$M$81,0)))","v":""},{"$f":"IF(リレー!H31=\"\",\"\",INDEX(競技者!$A$2:$A$81,MATCH(リレー!O31,競技者!$M$2:$M$81,0)))","v":""},{"$f":"IF(リレー!I31=\"\",\"\",INDEX(競技者!$A$2:$A$81,MATCH(リレー!P31,競技者!$M$2:$M$81,0)))","v":""}]
[{"$f":"IF(リレー!A32=\"\",\"\",リレー!A32)","v":""},{"$f":"IF(リレー!A32=\"\",\"\",申込一覧!$F$11)&IF(リレー!B32=\"\",\"\",リレー!B32)","v":""},null,{"$f":"IF(リレー!A32=\"\",\"\",申込一覧!$F$11)&IF(リレー!B32=\"\",\"\",リレー!B32)","v":""},null,{"$f":"IF(リレー!C32=\"\",\"\",リレー!C32)","v":""},{"$f":"IF(リレー!D32=\"\",\"\",INDEX(競技者!$A$2:$A$81,MATCH(リレー!K32,競技者!$M$2:$M$81,0)))","v":""},{"$f":"IF(リレー!E32=\"\",\"\",INDEX(競技者!$A$2:$A$81,MATCH(リレー!L32,競技者!$M$2:$M$81,0)))","v":""},{"$f":"IF(リレー!F32=\"\",\"\",INDEX(競技者!$A$2:$A$81,MATCH(リレー!M32,競技者!$M$2:$M$81,0)))","v":""},{"$f":"IF(リレー!G32=\"\",\"\",INDEX(競技者!$A$2:$A$81,MATCH(リレー!N32,競技者!$M$2:$M$81,0)))","v":""},{"$f":"IF(リレー!H32=\"\",\"\",INDEX(競技者!$A$2:$A$81,MATCH(リレー!O32,競技者!$M$2:$M$81,0)))","v":""},{"$f":"IF(リレー!I32=\"\",\"\",INDEX(競技者!$A$2:$A$81,MATCH(リレー!P32,競技者!$M$2:$M$81,0)))","v":""}]
[{"$f":"IF(リレー!A33=\"\",\"\",リレー!A33)","v":""},{"$f":"IF(リレー!A33=\"\",\"\",申込一覧!$F$11)&IF(リレー!B33=\"\",\"\",リレー!B33)","v":""},null,{"$f":"IF(リレー!A33=\"\",\"\",申込一覧!$F$11)&IF(リレー!B33=\"\",\"\",リレー!B33)","v":""},null,{"$f":"IF(リレー!C33=\"\",\"\",リレー!C33)","v":""},{"$f":"IF(リレー!D33=\"\",\"\",INDEX(競技者!$A$2:$A$81,MATCH(リレー!K33,競技者!$M$2:$M$81,0)))","v":""},{"$f":"IF(リレー!E33=\"\",\"\",INDEX(競技者!$A$2:$A$81,MATCH(リレー!L33,競技者!$M$2:$M$81,0)))","v":""},{"$f":"IF(リレー!F33=\"\",\"\",INDEX(競技者!$A$2:$A$81,MATCH(リレー!M33,競技者!$M$2:$M$81,0)))","v":""},{"$f":"IF(リレー!G33=\"\",\"\",INDEX(競技者!$A$2:$A$81,MATCH(リレー!N33,競技者!$M$2:$M$81,0)))","v":""},{"$f":"IF(リレー!H33=\"\",\"\",INDEX(競技者!$A$2:$A$81,MATCH(リレー!O33,競技者!$M$2:$M$81,0)))","v":""},{"$f":"IF(リレー!I33=\"\",\"\",INDEX(競技者!$A$2:$A$81,MATCH(リレー!P33,競技者!$M$2:$M$81,0)))","v":""}]
[{"$f":"IF(リレー!A34=\"\",\"\",リレー!A34)","v":""},{"$f":"IF(リレー!A34=\"\",\"\",申込一覧!$F$11)&IF(リレー!B34=\"\",\"\",リレー!B34)","v":""},null,{"$f":"IF(リレー!A34=\"\",\"\",申込一覧!$F$11)&IF(リレー!B34=\"\",\"\",リレー!B34)","v":""},null,{"$f":"IF(リレー!C34=\"\",\"\",リレー!C34)","v":""},{"$f":"IF(リレー!D34=\"\",\"\",INDEX(競技者!$A$2:$A$81,MATCH(リレー!K34,競技者!$M$2:$M$81,0)))","v":""},{"$f":"IF(リレー!E34=\"\",\"\",INDEX(競技者!$A$2:$A$81,MATCH(リレー!L34,競技者!$M$2:$M$81,0)))","v":""},{"$f":"IF(リレー!F34=\"\",\"\",INDEX(競技者!$A$2:$A$81,MATCH(リレー!M34,競技者!$M$2:$M$81,0)))","v":""},{"$f":"IF(リレー!G34=\"\",\"\",INDEX(競技者!$A$2:$A$81,MATCH(リレー!N34,競技者!$M$2:$M$81,0)))","v":""},{"$f":"IF(リレー!H34=\"\",\"\",INDEX(競技者!$A$2:$A$81,MATCH(リレー!O34,競技者!$M$2:$M$81,0)))","v":""},{"$f":"IF(リレー!I34=\"\",\"\",INDEX(競技者!$A$2:$A$81,MATCH(リレー!P34,競技者!$M$2:$M$81,0)))","v":""}]
[{"$f":"IF(リレー!A35=\"\",\"\",リレー!A35)","v":""},{"$f":"IF(リレー!A35=\"\",\"\",申込一覧!$F$11)&IF(リレー!B35=\"\",\"\",リレー!B35)","v":""},null,{"$f":"IF(リレー!A35=\"\",\"\",申込一覧!$F$11)&IF(リレー!B35=\"\",\"\",リレー!B35)","v":""},null,{"$f":"IF(リレー!C35=\"\",\"\",リレー!C35)","v":""},{"$f":"IF(リレー!D35=\"\",\"\",INDEX(競技者!$A$2:$A$81,MATCH(リレー!K35,競技者!$M$2:$M$81,0)))","v":""},{"$f":"IF(リレー!E35=\"\",\"\",INDEX(競技者!$A$2:$A$81,MATCH(リレー!L35,競技者!$M$2:$M$81,0)))","v":""},{"$f":"IF(リレー!F35=\"\",\"\",INDEX(競技者!$A$2:$A$81,MATCH(リレー!M35,競技者!$M$2:$M$81,0)))","v":""},{"$f":"IF(リレー!G35=\"\",\"\",INDEX(競技者!$A$2:$A$81,MATCH(リレー!N35,競技者!$M$2:$M$81,0)))","v":""},{"$f":"IF(リレー!H35=\"\",\"\",INDEX(競技者!$A$2:$A$81,MATCH(リレー!O35,競技者!$M$2:$M$81,0)))","v":""},{"$f":"IF(リレー!I35=\"\",\"\",INDEX(競技者!$A$2:$A$81,MATCH(リレー!P35,競技者!$M$2:$M$81,0)))","v":""}]
[{"$f":"IF(リレー!A36=\"\",\"\",リレー!A36)","v":""},{"$f":"IF(リレー!A36=\"\",\"\",申込一覧!$F$11)&IF(リレー!B36=\"\",\"\",リレー!B36)","v":""},null,{"$f":"IF(リレー!A36=\"\",\"\",申込一覧!$F$11)&IF(リレー!B36=\"\",\"\",リレー!B36)","v":""},null,{"$f":"IF(リレー!C36=\"\",\"\",リレー!C36)","v":""},{"$f":"IF(リレー!D36=\"\",\"\",INDEX(競技者!$A$2:$A$81,MATCH(リレー!K36,競技者!$M$2:$M$81,0)))","v":""},{"$f":"IF(リレー!E36=\"\",\"\",INDEX(競技者!$A$2:$A$81,MATCH(リレー!L36,競技者!$M$2:$M$81,0)))","v":""},{"$f":"IF(リレー!F36=\"\",\"\",INDEX(競技者!$A$2:$A$81,MATCH(リレー!M36,競技者!$M$2:$M$81,0)))","v":""},{"$f":"IF(リレー!G36=\"\",\"\",INDEX(競技者!$A$2:$A$81,MATCH(リレー!N36,競技者!$M$2:$M$81,0)))","v":""},{"$f":"IF(リレー!H36=\"\",\"\",INDEX(競技者!$A$2:$A$81,MATCH(リレー!O36,競技者!$M$2:$M$81,0)))","v":""},{"$f":"IF(リレー!I36=\"\",\"\",INDEX(競技者!$A$2:$A$81,MATCH(リレー!P36,競技者!$M$2:$M$81,0)))","v":""}]
[{"$f":"IF(リレー!A37=\"\",\"\",リレー!A37)","v":""},{"$f":"IF(リレー!A37=\"\",\"\",申込一覧!$F$11)&IF(リレー!B37=\"\",\"\",リレー!B37)","v":""},null,{"$f":"IF(リレー!A37=\"\",\"\",申込一覧!$F$11)&IF(リレー!B37=\"\",\"\",リレー!B37)","v":""},null,{"$f":"IF(リレー!C37=\"\",\"\",リレー!C37)","v":""},{"$f":"IF(リレー!D37=\"\",\"\",INDEX(競技者!$A$2:$A$81,MATCH(リレー!K37,競技者!$M$2:$M$81,0)))","v":""},{"$f":"IF(リレー!E37=\"\",\"\",INDEX(競技者!$A$2:$A$81,MATCH(リレー!L37,競技者!$M$2:$M$81,0)))","v":""},{"$f":"IF(リレー!F37=\"\",\"\",INDEX(競技者!$A$2:$A$81,MATCH(リレー!M37,競技者!$M$2:$M$81,0)))","v":""},{"$f":"IF(リレー!G37=\"\",\"\",INDEX(競技者!$A$2:$A$81,MATCH(リレー!N37,競技者!$M$2:$M$81,0)))","v":""},{"$f":"IF(リレー!H37=\"\",\"\",INDEX(競技者!$A$2:$A$81,MATCH(リレー!O37,競技者!$M$2:$M$81,0)))","v":""},{"$f":"IF(リレー!I37=\"\",\"\",INDEX(競技者!$A$2:$A$81,MATCH(リレー!P37,競技者!$M$2:$M$81,0)))","v":""}]
[{"$f":"IF(リレー!A38=\"\",\"\",リレー!A38)","v":""},{"$f":"IF(リレー!A38=\"\",\"\",申込一覧!$F$11)&IF(リレー!B38=\"\",\"\",リレー!B38)","v":""},null,{"$f":"IF(リレー!A38=\"\",\"\",申込一覧!$F$11)&IF(リレー!B38=\"\",\"\",リレー!B38)","v":""},null,{"$f":"IF(リレー!C38=\"\",\"\",リレー!C38)","v":""},{"$f":"IF(リレー!D38=\"\",\"\",INDEX(競技者!$A$2:$A$81,MATCH(リレー!K38,競技者!$M$2:$M$81,0)))","v":""},{"$f":"IF(リレー!E38=\"\",\"\",INDEX(競技者!$A$2:$A$81,MATCH(リレー!L38,競技者!$M$2:$M$81,0)))","v":""},{"$f":"IF(リレー!F38=\"\",\"\",INDEX(競技者!$A$2:$A$81,MATCH(リレー!M38,競技者!$M$2:$M$81,0)))","v":""},{"$f":"IF(リレー!G38=\"\",\"\",INDEX(競技者!$A$2:$A$81,MATCH(リレー!N38,競技者!$M$2:$M$81,0)))","v":""},{"$f":"IF(リレー!H38=\"\",\"\",INDEX(競技者!$A$2:$A$81,MATCH(リレー!O38,競技者!$M$2:$M$81,0)))","v":""},{"$f":"IF(リレー!I38=\"\",\"\",INDEX(競技者!$A$2:$A$81,MATCH(リレー!P38,競技者!$M$2:$M$81,0)))","v":""}]
[{"$f":"IF(リレー!A39=\"\",\"\",リレー!A39)","v":""},{"$f":"IF(リレー!A39=\"\",\"\",申込一覧!$F$11)&IF(リレー!B39=\"\",\"\",リレー!B39)","v":""},null,{"$f":"IF(リレー!A39=\"\",\"\",申込一覧!$F$11)&IF(リレー!B39=\"\",\"\",リレー!B39)","v":""},null,{"$f":"IF(リレー!C39=\"\",\"\",リレー!C39)","v":""},{"$f":"IF(リレー!D39=\"\",\"\",INDEX(競技者!$A$2:$A$81,MATCH(リレー!K39,競技者!$M$2:$M$81,0)))","v":""},{"$f":"IF(リレー!E39=\"\",\"\",INDEX(競技者!$A$2:$A$81,MATCH(リレー!L39,競技者!$M$2:$M$81,0)))","v":""},{"$f":"IF(リレー!F39=\"\",\"\",INDEX(競技者!$A$2:$A$81,MATCH(リレー!M39,競技者!$M$2:$M$81,0)))","v":""},{"$f":"IF(リレー!G39=\"\",\"\",INDEX(競技者!$A$2:$A$81,MATCH(リレー!N39,競技者!$M$2:$M$81,0)))","v":""},{"$f":"IF(リレー!H39=\"\",\"\",INDEX(競技者!$A$2:$A$81,MATCH(リレー!O39,競技者!$M$2:$M$81,0)))","v":""},{"$f":"IF(リレー!I39=\"\",\"\",INDEX(競技者!$A$2:$A$81,MATCH(リレー!P39,競技者!$M$2:$M$81,0)))","v":""}]

{"sheet":"競技者","index":5,"n_rows":2,"n_cols":13,"rows_kept":2,"cut":false,"hidden":true,"merged":[]}
["DB","N1","N2","SX","KC","MC","TL","WT","ZK","S1","S2","S3"]
[{"$f":"IF(申込一覧!B20=\"\",\"\",申込一覧!F20*10000+申込一覧!B20&申込一覧!$N$13&E2)","v":""},{"$f":"IF(申込一覧!C20=\"\",\"\",申込一覧!C20&IF(申込一覧!E20=\"\",\"\",\"(\"&申込一覧!E20&\")\"))","v":""},{"$f":"IF(申込一覧!D20=\"\",\"\",申込一覧!D20)","v":""},{"$f":"IF(申込一覧!F20=\"\",\"\",申込一覧!F20)","v":""},{"$f":"IF(申込一覧!B20=\"\",\"\",INDEX(RIGHTB(名前!$Y$4:$Y$53,2),MATCH(申込一覧!H20,県名_個人,0)))","v":""},{"$f":"IF(申込一覧!B20=\"\",\"\",申込一覧!$F$11)","v":""},{"$f":"IF(申込一覧!B20=\"\",\"\",0)","v":""},{"$f":"IF(申込一覧!B20=\"\",\"\",0)","v":""},{"$f":"IF(申込一覧!B20=\"\",\"\",申込一覧!B20)","v":""},{"$f":"IF(申込一覧!I20=\"\",\"\",INDEX(名前!$U$4:$U$69,MATCH(申込一覧!I20,名前!$V$4:$V$69,0))&\" \"&IF(申込一覧!P20=1,RIGHTB(10000000+申込一覧!J20,7),RIGHTB(100000+申込一覧!J20,5)))","v":""},{"$f":"IF(申込一覧!K20=\"\",\"\",INDEX(名前!$U$4:$U$69,MATCH(申込一覧!K20,名前!$V$4:$V$69,0))&\" \"&IF(申込一覧!Q20=1,RIGHTB(10000000+申込一覧!L20,7),RIGHTB(100000+申込一覧!L20,5)))","v":""},{"$f":"IF(申込一覧!M20=\"\",\"\",INDEX(名前!$U$4:$U$69,MATCH(申込一覧!M20,名前!$V$4:$V$69,0))&\" \"&IF(申込一覧!R20=1,RIGHTB(10000000+申込一覧!N20,7),RIGHTB(100000+申込一覧!N20,5)))","v":""},{"$f":"IF(申込一覧!B20=\"\",\"\",申込一覧!F20*10000+申込一覧!B20)","v":""}]

{"sheet":"参加料","index":6,"n_rows":13,"n_cols":14,"rows_kept":13,"cut":false,"hidden":true,"merged":[[0,11,1,11],[0,12,1,12],[0,13,1,13],[0,0,1,0],[0,1,1,2],[0,3,0,4],[0,5,0,6],[0,7,0,8],[0,9,0,10]]}
["団　体　名（個人名）","種別",null,"参加人数",null,"男子種目数",null,"女子種目数",null,"種目数計",null,"金額合計","摘要","P配布数"]
[null,null,null,"男子","女子","種目数","リレー","種目数","リレー","個人種目","リレー"]
[{"$f":"申込一覧!F11","v":0},{"$f":"申込一覧!K11","v":0},{"$f":"INDEX($B$6:$B$13,MATCH(申込一覧!O13,$C$6:$C$13,0))","v":{"$error":"#N/A"}},{"$f":"申込一覧!D14","v":0},{"$f":"申込一覧!G14","v":0},{"$f":"申込一覧!D15","v":0},{"$f":"申込一覧!D16","v":0},{"$f":"申込一覧!G15","v":0},{"$f":"申込一覧!G16","v":0},{"$f":"F3+H3","v":0},{"$f":"G3+I3","v":0},{"$f":"申込一覧!I17","v":0},{"$f":"IF(申込一覧!$C$11=\"徳　島\",\"\",\"県外\")","v":"県外"},{"$f":"IF(L3=\"\",\"\",INT(L3/5000))","v":0}]
[]
[]
[null,1,"KN小"]
[null,2,"KN中"]
[null,3,"KN高"]
[null,4,"KN一"]
[null,5,"KG小"]
[null,6,"KG中"]
[null,7,"KG高"]
[null,8,"KG一"]

{"sheet":"名前","index":7,"n_rows":67,"n_cols":26,"rows_kept":67,"cut":false,"hidden":true,"merged":[[26,4,30,4],[31,4,35,4]]}
[]
[]
["NO","都道府県名",null,"性別",null,null,1,null,null,"一般男子",null,null,"高校男子",null,null,"中学男子",null,null,"小学男子",null,null,null,null,null,"NO","都道府県名"]
[null,null,null,1,null,null,null,null,null,null,null,null,null,null,null,null,null,null,null,null,"00210","一男_100m",1]
[37,"徳　島",null,2,null,null,null,null,"00210","一男_1500m",null,"00210","高男_1500m",null,"00210","中男_1500m",null,"00270","小男_1000m",null,"00310","一男_200m",1,null,137,"徳島"]
[36,"香　川",null,null,null,null,null,null,"00310","一男_3000m",null,"00310","高男_3000m",null,"00310","中男_3000m",null,"00770",null,null,"00510","一男_400m",1,null,136,"香川"]
[38,"愛　媛",null,null,null,null,null,null,"00510","一男_5000m",null,"00510","高男_5000m",null,"00510",null,null,"04170",null,null,"00610","一男_800m",1,null,138,"愛媛"]
[39,"高　知",null,null,null,null,null,null,"00610",null,null,"00610",null,null,"00610",null,null,"07170",null,null,"03410","一男_110mH",1,null,139,"高知"]
[null,null,null,null,null,null,null,null,"03410",null,null,"03410",null,null,"03410",null,null,"07370",null,null,"03710","一男_400mH",1]
[1,"北海道",null,null,null,null,null,null,"03710",null,null,"03710",null,null,"03250",null,null,"09770",null,null,"07110","一男_走高跳",2,null,101,"北海道"]
[2,"青　森",null,null,null,null,null,null,"07110",null,null,"07110",null,null,"03710",null,null,null,null,null,"07210","一男_棒高跳",2,null,102,"青森"]
[3,"岩　手",null,null,null,null,null,null,"07210",null,null,"07210",null,null,"07110",null,null,null,null,null,"07310","一男_走幅跳",2,null,103,"岩手"]
[4,"宮　城",null,null,null,null,null,null,"07310",null,null,"07310",null,null,"07210",null,null,null,null,null,"07410","一男_三段跳",2,null,104,"宮城"]
[5,"秋　田",null,null,null,null,null,null,"07410",null,null,"07410",null,null,"07310",null,null,null,null,null,"08110","一男_砲丸投",2,null,105,"秋田"]
[6,"山　形",null,null,null,null,null,null,"08110",null,null,"08110",null,null,"07410",null,null,null,null,null,"08230","高男_砲丸投",2,null,106,"山形"]
[7,"福　島",null,null,null,null,null,null,"08610",null,null,"08230",null,null,"08110",null,null,null,null,null,"08610","一男_円盤投",2,null,107,"福島"]
[8,"茨　城",null,null,null,null,null,null,"08910",null,null,"08610",null,null,"08350",null,null,null,null,null,"08730","高男_円盤投",2,null,108,"茨城"]
[9,"栃　木",null,null,null,null,null,null,"09210",null,null,"08730",null,null,"08610",null,null,null,null,null,"08910","一男_ﾊﾝﾏｰ投",2,null,109,"栃木"]
[10,"群　馬",null,null,null,null,null,null,null,null,null,"08910",null,null,"09650",null,null,null,null,null,"09130","高男_ﾊﾝﾏｰ投",2,null,110,"群馬"]
[11,"埼　玉",null,null,null,null,null,null,"08220",null,null,"09130",null,null,"08910",null,null,null,null,null,"09210","一男_やり投",2,null,111,"埼玉"]
[12,"千　葉",null,null,null,null,null,null,"08720",null,null,"09210",null,null,"09210",null,null,null,null,null,"08220","J男_砲丸投(6kg)",2,null,112,"千葉"]
[13,"東　京",null,null,null,null,null,null,null,null,null,null,null,null,"09950",null,null,null,null,null,"08720","J男_円盤投(1.75kg)",2,null,113,"東京"]
[14,"神奈川",null,null,null,null,null,null,null,null,null,"03340",null,null,null,null,null,null,null,null,"03340","中3～高3 男_110mJH",1,null,114,"神奈川"]
[15,"新　潟",null,null,null,null,null,null,null,null,null,"08360",null,null,"03340",null,null,null,"小学女子",null,"08360","高1 男_砲丸投(5kg)",2,null,115,"新潟"]
[16,"富　山",null,null,null,null,null,null,null,null,null,null,null,null,"08480",null,null,null,null,null,"08480","中1 男_砲丸投(4kg)",2,null,116,"富山"]
[17,"石　川",null,null,null,"種別","個人",null,null,null,null,null,null,null,null,null,null,"00270","小女_1000m",null,"00210","一女_100m",1,null,117,"石川"]
[18,"福　井",null,null,"県内","小学校",500,"KN小",null,"一般女子",null,null,"高校女子",null,null,null,null,"00770",null,null,"00310","一女_200m",1,null,118,"福井"]
[19,"山　梨",null,null,null,"中学校",700,"KN中",null,null,null,null,null,null,null,null,null,"04170",null,null,"00510","一女_400m",1,null,119,"山梨"]
[20,"長　野",null,null,null,"高校",900,"KN高","00210","一女_1500m",null,"00210","高女_1500m",null,null,null,null,"07170",null,null,"00610","一女_800m",1,null,120,"長野"]
[21,"岐　阜",null,null,null,"一般",1100,"KN一","00310","一女_3000m",null,"00310","高女_3000m",null,null,null,null,"07370",null,null,"04410","一女_100mH",1,null,121,"岐阜"]
[null,null,null,null,null,null,null,null,"00510",null,null,"00510",null,null,null,null,null,"09770",null,null,"04610","一女_400mH",1]
[22,"静　岡",null,null,"県外","小学校",500,"KG小","00610",null,null,"00610",null,null,null,null,null,null,null,null,"07110","一女_走高跳",2,null,122,"静岡"]
[23,"愛　知",null,null,null,"中学校",700,"KG中","04410",null,null,"04410",null,null,null,"中学女子",null,null,null,null,"07210","一女_棒高跳",2,null,123,"愛知"]
[24,"三　重",null,null,null,"高校",900,"KG高","04610",null,null,"04610",null,null,null,null,null,null,null,null,"07310","一女_走幅跳",2,null,124,"三重"]
[25,"滋　賀",null,null,null,"一般",1100,"KG一","07110",null,null,"07110",null,null,"00210","中女_1500m",null,null,null,null,"07410","一女_三段跳",2,null,125,"滋賀"]
[26,"京　都",null,null,null,null,null,null,"07210",null,null,"07210",null,null,"00310","中女_3000m",null,null,null,null,"08410","一女_砲丸投",2,null,126,"京都"]
[27,"大　阪",null,null,null,null,null,null,"07310",null,null,"07310",null,null,"00510",null,null,null,null,null,"08810","一女_円盤投",2,null,127,"大阪"]
[28,"兵　庫",null,null,null,null,null,null,"07410",null,null,"07410",null,null,"00610",null,null,null,null,null,"09410","一女_ﾊﾝﾏｰ投",2,null,128,"兵庫"]
[29,"奈　良",null,null,null,null,null,null,"08410",null,null,"08410",null,null,"04410",null,null,null,null,null,"09310","一女_やり投",2,null,129,"奈良"]
[30,"和歌山",null,null,null,null,null,null,"08810",null,null,"08810",null,null,"04250",null,null,null,null,null,"04360","中3高1女_100mYH",1,null,130,"和歌山"]
[31,"鳥　取",null,null,null,null,null,null,"09410",null,null,"09410",null,null,"04610",null,null,null,null,null,"03250","中男_110mH",1,null,131,"鳥取"]
[32,"島　根",null,null,null,null,null,null,"09310",null,null,"09310",null,null,"07110",null,null,null,null,null,"08350","中男_砲丸投",2,null,132,"島根"]
[33,"岡　山",null,null,null,null,null,null,null,null,null,null,null,null,"07210",null,null,null,null,null,"09650","中男_円盤投",2,null,133,"岡山"]
[34,"広　島",null,null,null,null,null,null,null,null,null,"04360",null,null,"07310",null,null,null,null,null,"09950","中男_ｼﾞｬﾍﾞﾘｯｸｽﾛｰ",2,null,134,"広島"]
[35,"山　口",null,null,null,null,null,null,null,null,null,null,null,null,"07410",null,null,null,null,null,"04250","中女_100mH",1,null,135,"山口"]
[40,"福　岡",null,null,null,null,null,null,null,null,null,null,null,null,"08410",null,null,null,null,null,"08550","中女_砲丸投",2,null,140,"福岡"]
[41,"佐　賀",null,null,null,null,null,null,null,null,null,null,null,null,"08550",null,null,null,null,null,"09950","中女_ｼﾞｬﾍﾞﾘｯｸｽﾛｰ",2,null,141,"佐賀"]
[42,"長　崎",null,null,null,null,null,null,null,null,null,null,null,null,"08810",null,null,null,null,null,"00270","小男_100m",1,null,142,"長崎"]
[43,"熊　本",null,null,null,null,null,null,null,"リレー",null,null,null,null,"09410",null,null,null,null,null,"00770","小男_1000m",1,null,143,"熊本"]
[44,"大　分",null,null,null,null,null,null,null,null,null,null,null,null,"09310",null,null,null,null,null,"04170","小男_80mH",1,null,144,"大分"]
[45,"宮　崎",null,null,null,null,null,null,null,"男4×100mR",null,null,null,null,"09950",null,null,null,null,null,"07170","小男_走高跳",2,null,145,"宮崎"]
[46,"鹿児島",null,null,null,null,null,null,null,"女4×100mR",null,null,null,null,null,null,null,null,null,null,"07370","小男_走幅跳",2,null,146,"鹿児島"]
[47,"沖　縄",null,null,null,null,null,null,null,null,null,null,null,null,"04360",null,null,null,null,null,"09770","小男_ｼﾞｬﾍﾞﾘｯｸﾎﾞｰﾙ投",2,null,147,"沖縄"]
[null,null,null,null,null,null,null,null,null,null,null,null,null,null,null,null,null,null,null,null,"00270","小女_100m",1]
[null,null,null,null,null,null,null,null,null,null,null,null,null,null,null,null,null,null,null,null,"00770","小女_1000m",1]
[null,null,null,null,null,null,null,null,null,"Rチーム",null,null,null,null,null,null,null,null,null,null,"04170","小女_80mH",1]
[null,null,null,null,null,null,null,null,null,null,null,null,null,null,null,null,null,null,null,null,"07170","小女_走高跳",2]
[null,null,null,null,null,null,null,null,null,"Ａ",null,null,null,null,null,null,null,null,null,null,"07370","小女_走幅跳",2]
[null,null,null,null,null,null,null,null,null,"Ｂ",null,null,null,null,null,null,null,null,null,null,"09770","小女_ｼﾞｬﾍﾞﾘｯｸﾎﾞｰﾙ投",2]
[null,null,null,null,null,null,null,null,null,"Ｃ"]
[null,null,null,null,null,null,null,null,null,"Ｄ"]
[null,null,null,null,null,null,null,null,null,"Ｅ"]
[null,null,null,null,null,null,null,null,null,"Ｆ"]
[null,null,null,null,null,null,null,null,null,"Ｇ"]
[null,null,null,null,null,null,null,null,null,"Ｈ"]
[null,null,null,null,null,null,null,null,null,"Ｉ"]
[null,null,null,null,null,null,null,null,null,"Ｊ"]

{"sheet":"Sheet1","index":8,"n_rows":0,"n_cols":0,"rows_kept":0,"cut":false,"hidden":true,"merged":[]}